BEGIN:VCALENDAR
VERSION:2.0
PRODID:-//Grangetown Baptist Church - ECPv6.15.14//NONSGML v1.0//EN
CALSCALE:GREGORIAN
METHOD:PUBLISH
X-ORIGINAL-URL:https://grangetownchurch.org
X-WR-CALDESC:Events for Grangetown Baptist Church
REFRESH-INTERVAL;VALUE=DURATION:PT1H
X-Robots-Tag:noindex
X-PUBLISHED-TTL:PT1H
BEGIN:VTIMEZONE
TZID:Europe/London
BEGIN:DAYLIGHT
TZOFFSETFROM:+0000
TZOFFSETTO:+0100
TZNAME:BST
DTSTART:20250330T010000
END:DAYLIGHT
BEGIN:STANDARD
TZOFFSETFROM:+0100
TZOFFSETTO:+0000
TZNAME:GMT
DTSTART:20251026T010000
END:STANDARD
BEGIN:DAYLIGHT
TZOFFSETFROM:+0000
TZOFFSETTO:+0100
TZNAME:BST
DTSTART:20260329T010000
END:DAYLIGHT
BEGIN:STANDARD
TZOFFSETFROM:+0100
TZOFFSETTO:+0000
TZNAME:GMT
DTSTART:20261025T010000
END:STANDARD
BEGIN:DAYLIGHT
TZOFFSETFROM:+0000
TZOFFSETTO:+0100
TZNAME:BST
DTSTART:20270328T010000
END:DAYLIGHT
BEGIN:STANDARD
TZOFFSETFROM:+0100
TZOFFSETTO:+0000
TZNAME:GMT
DTSTART:20271031T010000
END:STANDARD
END:VTIMEZONE
BEGIN:VEVENT
DTSTART;TZID=Europe/London:20260201T100000
DTEND;TZID=Europe/London:20260201T110000
DTSTAMP:20260420T171834
CREATED:20250410T070838Z
LAST-MODIFIED:20250410T071131Z
UID:10005557-1769940000-1769943600@grangetownchurch.org
SUMMARY:Prayer Meeting
DESCRIPTION:Come and join us as we gather together before our morning service to pray for each other\, our church\, our community\, and our world.
URL:https://grangetownchurch.org/event/prayer-meeting/2026-02-01/
ATTACH;FMTTYPE=image/png:https://grangetownchurch.org/wp-content/uploads/2025/03/Add-a-subheading-14.png
END:VEVENT
BEGIN:VEVENT
DTSTART;TZID=Europe/London:20260201T110000
DTEND;TZID=Europe/London:20260201T123000
DTSTAMP:20260420T171834
CREATED:20250212T213533Z
LAST-MODIFIED:20250212T213652Z
UID:10003318-1769943600-1769949000@grangetownchurch.org
SUMMARY:Morning service
DESCRIPTION:Come along on a Sunday morning to see what we’re all about – we hear the Bible explained\, sing\, pray and enjoy being together. All are welcome and there are supervised activities for children too. Find out more here. Tune in to this meeting livestreamed on Facebook\, YouTube\, or here on the website.
URL:https://grangetownchurch.org/event/7399/2026-02-01/
CATEGORIES:Worship & Discipleship
ATTACH;FMTTYPE=image/jpeg:https://grangetownchurch.org/wp-content/uploads/2025/02/24-min.jpg
END:VEVENT
BEGIN:VEVENT
DTSTART;TZID=Europe/London:20260201T112000
DTEND;TZID=Europe/London:20260201T123000
DTSTAMP:20260420T171834
CREATED:20250212T214341Z
LAST-MODIFIED:20250212T230754Z
UID:10003840-1769944800-1769949000@grangetownchurch.org
SUMMARY:Crèche
DESCRIPTION:Children below the age of 4 can leave the service after around 20 minutes to play with a host of toys\, in a safe environment. Two adults are in supervision.
URL:https://grangetownchurch.org/event/creche/2026-02-01/
CATEGORIES:Children & Young People,Worship & Discipleship
ATTACH;FMTTYPE=image/jpeg:https://grangetownchurch.org/wp-content/uploads/2025/02/Add-a-subheading-36.jpg
END:VEVENT
BEGIN:VEVENT
DTSTART;TZID=Europe/London:20260201T112000
DTEND;TZID=Europe/London:20260201T123000
DTSTAMP:20260420T171834
CREATED:20250212T215348Z
LAST-MODIFIED:20250212T215354Z
UID:10004101-1769944800-1769949000@grangetownchurch.org
SUMMARY:Sunday school
DESCRIPTION:Children up to 11 years can leave the service after around 20 minutes to enjoy Bible teaching\, playing\, singing\, and hanging out with their friends.
URL:https://grangetownchurch.org/event/sunday-school/2026-02-01/
CATEGORIES:Children & Young People
ATTACH;FMTTYPE=image/jpeg:https://grangetownchurch.org/wp-content/uploads/2025/02/24-min-1.jpg
END:VEVENT
BEGIN:VEVENT
DTSTART;TZID=Europe/London:20260201T180000
DTEND;TZID=Europe/London:20260201T190000
DTSTAMP:20260420T171834
CREATED:20250212T214130Z
LAST-MODIFIED:20250212T222132Z
UID:10003579-1769968800-1769972400@grangetownchurch.org
SUMMARY:Evening service
DESCRIPTION:On Sunday night we meet together for our evening service. This event is livestreamed and you can follow along and participate in any Q&A online via Facebook\, YouTube\, or here on the website.
URL:https://grangetownchurch.org/event/evening-service/2026-02-01/
CATEGORIES:Worship & Discipleship
ATTACH;FMTTYPE=image/jpeg:https://grangetownchurch.org/wp-content/uploads/2025/02/Add-a-subheading-20.jpg
END:VEVENT
BEGIN:VEVENT
DTSTART;TZID=Europe/London:20260201T180000
DTEND;TZID=Europe/London:20260201T190000
DTSTAMP:20260420T171834
CREATED:20250928T195319Z
LAST-MODIFIED:20251014T182708Z
UID:10004623-1769968800-1769972400@grangetownchurch.org
SUMMARY:Townkids
DESCRIPTION:TownKids runs during the evening service.
URL:https://grangetownchurch.org/event/townkids-2/2026-02-01/
CATEGORIES:Children & Young People,Worship & Discipleship
ATTACH;FMTTYPE=image/jpeg:https://grangetownchurch.org/wp-content/uploads/2025/04/WhatsApp-Image-2025-04-16-at-11.10.50.jpeg
END:VEVENT
END:VCALENDAR