BEGIN:VCALENDAR
VERSION:2.0
PRODID:-//Grangetown Baptist Church - ECPv6.15.14//NONSGML v1.0//EN
CALSCALE:GREGORIAN
METHOD:PUBLISH
X-WR-CALNAME:Grangetown Baptist Church
X-ORIGINAL-URL:https://grangetownchurch.org
X-WR-CALDESC:Events for Grangetown Baptist Church
REFRESH-INTERVAL;VALUE=DURATION:PT1H
X-Robots-Tag:noindex
X-PUBLISHED-TTL:PT1H
BEGIN:VTIMEZONE
TZID:Europe/London
BEGIN:DAYLIGHT
TZOFFSETFROM:+0000
TZOFFSETTO:+0100
TZNAME:BST
DTSTART:20250330T010000
END:DAYLIGHT
BEGIN:STANDARD
TZOFFSETFROM:+0100
TZOFFSETTO:+0000
TZNAME:GMT
DTSTART:20251026T010000
END:STANDARD
BEGIN:DAYLIGHT
TZOFFSETFROM:+0000
TZOFFSETTO:+0100
TZNAME:BST
DTSTART:20260329T010000
END:DAYLIGHT
BEGIN:STANDARD
TZOFFSETFROM:+0100
TZOFFSETTO:+0000
TZNAME:GMT
DTSTART:20261025T010000
END:STANDARD
BEGIN:DAYLIGHT
TZOFFSETFROM:+0000
TZOFFSETTO:+0100
TZNAME:BST
DTSTART:20270328T010000
END:DAYLIGHT
BEGIN:STANDARD
TZOFFSETFROM:+0100
TZOFFSETTO:+0000
TZNAME:GMT
DTSTART:20271031T010000
END:STANDARD
END:VTIMEZONE
BEGIN:VEVENT
DTSTART;TZID=Europe/London:20260424T100000
DTEND;TZID=Europe/London:20260424T111500
DTSTAMP:20260420T093801
CREATED:20250212T173710Z
LAST-MODIFIED:20251014T182320Z
UID:10002168-1777024800-1777029300@grangetownchurch.org
SUMMARY:English Classes
DESCRIPTION:Come and learn English for free – speaking\, reading and writing. Beginners welcome. There is also supervised play for children\, so you can bring them with you.
URL:https://grangetownchurch.org/event/english-classes-2/2026-04-24/
CATEGORIES:International
ATTACH;FMTTYPE=image/png:https://grangetownchurch.org/wp-content/uploads/2025/02/24.png
END:VEVENT
BEGIN:VEVENT
DTSTART;TZID=Europe/London:20260424T120000
DTEND;TZID=Europe/London:20260424T130000
DTSTAMP:20260420T093801
CREATED:20250513T204535Z
LAST-MODIFIED:20251014T182419Z
UID:10002689-1777032000-1777035600@grangetownchurch.org
SUMMARY:Foodmarket
DESCRIPTION:Everyone welcome. No voucher needed\, just come along for a bag of food\, a cuppa and a chat in a warm welcoming space.
URL:https://grangetownchurch.org/event/food-market-2/2026-04-24/
CATEGORIES:Help & Support
ATTACH;FMTTYPE=image/jpeg:https://grangetownchurch.org/wp-content/uploads/2025/02/5.jpg
END:VEVENT
BEGIN:VEVENT
DTSTART;TZID=Europe/London:20260424T120000
DTEND;TZID=Europe/London:20260424T140000
DTSTAMP:20260420T093801
CREATED:20250212T174131Z
LAST-MODIFIED:20251015T175409Z
UID:10007107-1777032000-1777039200@grangetownchurch.org
SUMMARY:Foodbank
DESCRIPTION:This is a service for those facing food crisis in our community. It’s run in partnership with Cardiff Foodbank. Bring your voucher and bags if you have them. A Foodbank where a voucher can be redeemed for a 3 day emergency supply of food. More information can be found here. Call 029 2087 1071 for help to get a voucher or go to the Grangetown Hub/Library in Havelock Place\, CF11 6PA.
URL:https://grangetownchurch.org/event/7385/2026-04-24/
CATEGORIES:Help & Support
ATTACH;FMTTYPE=image/jpeg:https://grangetownchurch.org/wp-content/uploads/2025/02/8.jpg
END:VEVENT
END:VCALENDAR