BEGIN:VCALENDAR
VERSION:2.0
PRODID:-//Grangetown Baptist Church - ECPv6.15.14//NONSGML v1.0//EN
CALSCALE:GREGORIAN
METHOD:PUBLISH
X-ORIGINAL-URL:https://grangetownchurch.org
X-WR-CALDESC:Events for Grangetown Baptist Church
REFRESH-INTERVAL;VALUE=DURATION:PT1H
X-Robots-Tag:noindex
X-PUBLISHED-TTL:PT1H
BEGIN:VTIMEZONE
TZID:Europe/London
BEGIN:DAYLIGHT
TZOFFSETFROM:+0000
TZOFFSETTO:+0100
TZNAME:BST
DTSTART:20250330T010000
END:DAYLIGHT
BEGIN:STANDARD
TZOFFSETFROM:+0100
TZOFFSETTO:+0000
TZNAME:GMT
DTSTART:20251026T010000
END:STANDARD
BEGIN:DAYLIGHT
TZOFFSETFROM:+0000
TZOFFSETTO:+0100
TZNAME:BST
DTSTART:20260329T010000
END:DAYLIGHT
BEGIN:STANDARD
TZOFFSETFROM:+0100
TZOFFSETTO:+0000
TZNAME:GMT
DTSTART:20261025T010000
END:STANDARD
BEGIN:DAYLIGHT
TZOFFSETFROM:+0000
TZOFFSETTO:+0100
TZNAME:BST
DTSTART:20270328T010000
END:DAYLIGHT
BEGIN:STANDARD
TZOFFSETFROM:+0100
TZOFFSETTO:+0000
TZNAME:GMT
DTSTART:20271031T010000
END:STANDARD
END:VTIMEZONE
BEGIN:VEVENT
DTSTART;TZID=Europe/London:20260401T193000
DTEND;TZID=Europe/London:20260401T203000
DTSTAMP:20260421T064016
CREATED:20260308T154053Z
LAST-MODIFIED:20260308T164724Z
UID:10008301-1775071800-1775075400@grangetownchurch.org
SUMMARY:Easter Services - The Upper Room
DESCRIPTION:Welcome to our Easter sermon series. \n\n\n\nOur first sermon in the series\, “The Upper Room\,” will be preached by Andrew Graham. \n\n\n\nThe series begins tonight (Wednesday) and will run through to Sunday evening\, culminating in a communion service and supper. \n\n\n\nWe warmly invite everyone to join us as we journey together through the Easter story.
URL:https://grangetownchurch.org/event/the-upper-room/
CATEGORIES:Easter
ATTACH;FMTTYPE=image/png:https://grangetownchurch.org/wp-content/uploads/2026/03/2026-Easter-Services-3.png
END:VEVENT
BEGIN:VEVENT
DTSTART;TZID=Europe/London:20260402T193000
DTEND;TZID=Europe/London:20260402T203000
DTSTAMP:20260421T064016
CREATED:20260308T154212Z
LAST-MODIFIED:20260308T163913Z
UID:10008302-1775158200-1775161800@grangetownchurch.org
SUMMARY:Easter Services - The Garden
DESCRIPTION:The second sermon in our Easter series is titled “The Garden” and will be preached by our pastor\, Ian Parry. \n\n\n\nWe warmly invite everyone to join us as we continue our journey through the Easter story.
URL:https://grangetownchurch.org/event/the-garden/
CATEGORIES:Easter
ATTACH;FMTTYPE=image/png:https://grangetownchurch.org/wp-content/uploads/2026/03/1-2.png
END:VEVENT
BEGIN:VEVENT
DTSTART;TZID=Europe/London:20260403T193000
DTEND;TZID=Europe/London:20260403T203000
DTSTAMP:20260421T064016
CREATED:20260308T154331Z
LAST-MODIFIED:20260308T164102Z
UID:10008303-1775244600-1775248200@grangetownchurch.org
SUMMARY:Easter Services - The Cross
DESCRIPTION:Join us for the third sermon in our Easter series\, titled “The Cross\,” which will be preached by Alun Johnson. \n\n\n\nWe warmly welcome everyone to come along as we reflect together on the meaning and significance of the cross.
URL:https://grangetownchurch.org/event/8564/
ATTACH;FMTTYPE=image/png:https://grangetownchurch.org/wp-content/uploads/2026/03/2026-Easter-Services-1.png
END:VEVENT
BEGIN:VEVENT
DTSTART;TZID=Europe/London:20260404T193000
DTEND;TZID=Europe/London:20260404T203000
DTSTAMP:20260421T064016
CREATED:20260308T154552Z
LAST-MODIFIED:20260308T164409Z
UID:10008304-1775331000-1775334600@grangetownchurch.org
SUMMARY:Easter Services - The Tomb
DESCRIPTION:Join us this Saturday evening for the next sermon in our Easter series\, titled “The Tomb\,” which will be preached by Dai Hankey. \n\n\n\nWe warmly welcome everyone to join us as we continue our journey through the Easter story.
URL:https://grangetownchurch.org/event/the-tomb/
CATEGORIES:Easter
ATTACH;FMTTYPE=image/png:https://grangetownchurch.org/wp-content/uploads/2026/03/2026-Easter-Services-2.png
END:VEVENT
BEGIN:VEVENT
DTSTART;TZID=Europe/London:20260405T100000
DTEND;TZID=Europe/London:20260405T110000
DTSTAMP:20260421T064016
CREATED:20250410T070838Z
LAST-MODIFIED:20250410T071131Z
UID:10005566-1775383200-1775386800@grangetownchurch.org
SUMMARY:Prayer Meeting
DESCRIPTION:Come and join us as we gather together before our morning service to pray for each other\, our church\, our community\, and our world.
URL:https://grangetownchurch.org/event/prayer-meeting/2026-04-05/
ATTACH;FMTTYPE=image/png:https://grangetownchurch.org/wp-content/uploads/2025/03/Add-a-subheading-14.png
END:VEVENT
BEGIN:VEVENT
DTSTART;TZID=Europe/London:20260405T110000
DTEND;TZID=Europe/London:20260405T123000
DTSTAMP:20260421T064016
CREATED:20260308T154717Z
LAST-MODIFIED:20260308T170741Z
UID:10008305-1775386800-1775392200@grangetownchurch.org
SUMMARY:Easter Services - The Resurrection
DESCRIPTION:Join us for the penultimate sermon in our Easter series\, titled “The Resurrection\,” which will be preached by our pastor Ian Parry. \n\n\n\nWe warmly welcome everyone to join us on Sunday morning as we celebrate the hope and joy of the resurrection.
URL:https://grangetownchurch.org/event/the-resurrection/
CATEGORIES:Easter
ATTACH;FMTTYPE=image/png:https://grangetownchurch.org/wp-content/uploads/2026/03/9.png
END:VEVENT
BEGIN:VEVENT
DTSTART;TZID=Europe/London:20260405T112000
DTEND;TZID=Europe/London:20260405T123000
DTSTAMP:20260421T064016
CREATED:20250212T214341Z
LAST-MODIFIED:20250212T230754Z
UID:10003849-1775388000-1775392200@grangetownchurch.org
SUMMARY:Crèche
DESCRIPTION:Children below the age of 4 can leave the service after around 20 minutes to play with a host of toys\, in a safe environment. Two adults are in supervision.
URL:https://grangetownchurch.org/event/creche/2026-04-05/
CATEGORIES:Children & Young People,Worship & Discipleship
ATTACH;FMTTYPE=image/jpeg:https://grangetownchurch.org/wp-content/uploads/2025/02/Add-a-subheading-36.jpg
END:VEVENT
BEGIN:VEVENT
DTSTART;TZID=Europe/London:20260405T112000
DTEND;TZID=Europe/London:20260405T123000
DTSTAMP:20260421T064016
CREATED:20250212T215348Z
LAST-MODIFIED:20250212T215354Z
UID:10004110-1775388000-1775392200@grangetownchurch.org
SUMMARY:Sunday school
DESCRIPTION:Children up to 11 years can leave the service after around 20 minutes to enjoy Bible teaching\, playing\, singing\, and hanging out with their friends.
URL:https://grangetownchurch.org/event/sunday-school/2026-04-05/
CATEGORIES:Children & Young People
ATTACH;FMTTYPE=image/jpeg:https://grangetownchurch.org/wp-content/uploads/2025/02/24-min-1.jpg
END:VEVENT
BEGIN:VEVENT
DTSTART;TZID=Europe/London:20260405T180000
DTEND;TZID=Europe/London:20260405T200000
DTSTAMP:20260421T064016
CREATED:20260308T155429Z
LAST-MODIFIED:20260308T171056Z
UID:10008306-1775412000-1775419200@grangetownchurch.org
SUMMARY:Easter Services - Communion Service & Supper
DESCRIPTION:Join us for the final service in our Easter series\, led by our pastor Ian Parry. \n\n\n\nThe communion service will be followed by a church supper\, as we come together in fellowship at the close of our Easter journey.
URL:https://grangetownchurch.org/event/communion-service-supper/
CATEGORIES:Easter
ATTACH;FMTTYPE=image/png:https://grangetownchurch.org/wp-content/uploads/2026/03/2026-Easter-Services-4.png
END:VEVENT
BEGIN:VEVENT
DTSTART;TZID=Europe/London:20260408T193000
DTEND;TZID=Europe/London:20260408T210000
DTSTAMP:20260421T064016
CREATED:20250211T231147Z
LAST-MODIFIED:20251014T181706Z
UID:10000883-1775676600-1775682000@grangetownchurch.org
SUMMARY:Bible Study & Prayer Meeting
DESCRIPTION:Come and join us as we gather together on a Wednesday night to study the Bible together and pray for each other\, our church\, our community\, and our world.
URL:https://grangetownchurch.org/event/prayer-bible-study/2026-04-08/
CATEGORIES:Worship & Discipleship
ATTACH;FMTTYPE=image/png:https://grangetownchurch.org/wp-content/uploads/2025/03/Add-a-subheading-14.png
END:VEVENT
BEGIN:VEVENT
DTSTART;TZID=Europe/London:20260410T120000
DTEND;TZID=Europe/London:20260410T140000
DTSTAMP:20260421T064016
CREATED:20250212T174131Z
LAST-MODIFIED:20251015T175409Z
UID:10007105-1775822400-1775829600@grangetownchurch.org
SUMMARY:Foodbank
DESCRIPTION:This is a service for those facing food crisis in our community. It’s run in partnership with Cardiff Foodbank. Bring your voucher and bags if you have them. A Foodbank where a voucher can be redeemed for a 3 day emergency supply of food. More information can be found here. Call 029 2087 1071 for help to get a voucher or go to the Grangetown Hub/Library in Havelock Place\, CF11 6PA.
URL:https://grangetownchurch.org/event/7385/2026-04-10/
CATEGORIES:Help & Support
ATTACH;FMTTYPE=image/jpeg:https://grangetownchurch.org/wp-content/uploads/2025/02/8.jpg
END:VEVENT
BEGIN:VEVENT
DTSTART;TZID=Europe/London:20260412T100000
DTEND;TZID=Europe/London:20260412T110000
DTSTAMP:20260421T064016
CREATED:20250410T070838Z
LAST-MODIFIED:20250410T071131Z
UID:10005567-1775988000-1775991600@grangetownchurch.org
SUMMARY:Prayer Meeting
DESCRIPTION:Come and join us as we gather together before our morning service to pray for each other\, our church\, our community\, and our world.
URL:https://grangetownchurch.org/event/prayer-meeting/2026-04-12/
ATTACH;FMTTYPE=image/png:https://grangetownchurch.org/wp-content/uploads/2025/03/Add-a-subheading-14.png
END:VEVENT
BEGIN:VEVENT
DTSTART;TZID=Europe/London:20260412T110000
DTEND;TZID=Europe/London:20260412T123000
DTSTAMP:20260421T064016
CREATED:20250212T213533Z
LAST-MODIFIED:20250212T213652Z
UID:10003328-1775991600-1775997000@grangetownchurch.org
SUMMARY:Morning service
DESCRIPTION:Come along on a Sunday morning to see what we’re all about – we hear the Bible explained\, sing\, pray and enjoy being together. All are welcome and there are supervised activities for children too. Find out more here. Tune in to this meeting livestreamed on Facebook\, YouTube\, or here on the website.
URL:https://grangetownchurch.org/event/7399/2026-04-12/
CATEGORIES:Worship & Discipleship
ATTACH;FMTTYPE=image/jpeg:https://grangetownchurch.org/wp-content/uploads/2025/02/24-min.jpg
END:VEVENT
BEGIN:VEVENT
DTSTART;TZID=Europe/London:20260412T112000
DTEND;TZID=Europe/London:20260412T123000
DTSTAMP:20260421T064016
CREATED:20250212T214341Z
LAST-MODIFIED:20250212T230754Z
UID:10003850-1775992800-1775997000@grangetownchurch.org
SUMMARY:Crèche
DESCRIPTION:Children below the age of 4 can leave the service after around 20 minutes to play with a host of toys\, in a safe environment. Two adults are in supervision.
URL:https://grangetownchurch.org/event/creche/2026-04-12/
CATEGORIES:Children & Young People,Worship & Discipleship
ATTACH;FMTTYPE=image/jpeg:https://grangetownchurch.org/wp-content/uploads/2025/02/Add-a-subheading-36.jpg
END:VEVENT
BEGIN:VEVENT
DTSTART;TZID=Europe/London:20260412T112000
DTEND;TZID=Europe/London:20260412T123000
DTSTAMP:20260421T064016
CREATED:20250212T215348Z
LAST-MODIFIED:20250212T215354Z
UID:10004111-1775992800-1775997000@grangetownchurch.org
SUMMARY:Sunday school
DESCRIPTION:Children up to 11 years can leave the service after around 20 minutes to enjoy Bible teaching\, playing\, singing\, and hanging out with their friends.
URL:https://grangetownchurch.org/event/sunday-school/2026-04-12/
CATEGORIES:Children & Young People
ATTACH;FMTTYPE=image/jpeg:https://grangetownchurch.org/wp-content/uploads/2025/02/24-min-1.jpg
END:VEVENT
BEGIN:VEVENT
DTSTART;TZID=Europe/London:20260412T180000
DTEND;TZID=Europe/London:20260412T190000
DTSTAMP:20260421T064016
CREATED:20250212T214130Z
LAST-MODIFIED:20250212T222132Z
UID:10003589-1776016800-1776020400@grangetownchurch.org
SUMMARY:Evening service
DESCRIPTION:On Sunday night we meet together for our evening service. This event is livestreamed and you can follow along and participate in any Q&A online via Facebook\, YouTube\, or here on the website.
URL:https://grangetownchurch.org/event/evening-service/2026-04-12/
CATEGORIES:Worship & Discipleship
ATTACH;FMTTYPE=image/jpeg:https://grangetownchurch.org/wp-content/uploads/2025/02/Add-a-subheading-20.jpg
END:VEVENT
BEGIN:VEVENT
DTSTART;TZID=Europe/London:20260414T150000
DTEND;TZID=Europe/London:20260414T180000
DTSTAMP:20260421T064016
CREATED:20250519T073509Z
LAST-MODIFIED:20260205T203453Z
UID:10007913-1776178800-1776189600@grangetownchurch.org
SUMMARY:TownYouth
DESCRIPTION:Every Tuesdays during school terms\, from whenever school ends until 6pm. \n\n\n\nGames\, life-skills\, Bible teaching & an evening meal for children of secondary school age.
URL:https://grangetownchurch.org/event/townyouth-3/2026-04-14/
ATTACH;FMTTYPE=image/png:https://grangetownchurch.org/wp-content/uploads/2025/02/Add-a-subheading-14.png
END:VEVENT
BEGIN:VEVENT
DTSTART;TZID=Europe/London:20260415T093000
DTEND;TZID=Europe/London:20260415T111500
DTSTAMP:20260421T064016
CREATED:20250603T113808Z
LAST-MODIFIED:20251014T183048Z
UID:10001647-1776245400-1776251700@grangetownchurch.org
SUMMARY:Parent & Toddler
DESCRIPTION:We appreciate that having young children is both wonderful and exhausting at the same time! Come and join us for a morning of fun and friendship for parents and toddlers! It’s free and all are welcome.
URL:https://grangetownchurch.org/event/parent-toddler-2/2026-04-15/
CATEGORIES:Children & Young People
ATTACH;FMTTYPE=image/jpeg:https://grangetownchurch.org/wp-content/uploads/2025/04/WhatsApp-Image-2025-04-16-at-11.10.51.jpeg
END:VEVENT
BEGIN:VEVENT
DTSTART;TZID=Europe/London:20260415T110000
DTEND;TZID=Europe/London:20260415T130000
DTSTAMP:20260421T064016
CREATED:20250212T225022Z
LAST-MODIFIED:20251014T183228Z
UID:10001393-1776250800-1776258000@grangetownchurch.org
SUMMARY:Cornestone Sewing Club
DESCRIPTION:If you would like to do some sewing and quilting\, have a cuppa and chat why not come along and join us every Wednesday during term time. From enthusiastic beginners to experienced quilters everyone is welcome. \n\n\n\nLimited spaces so contact Sheila for availability.
URL:https://grangetownchurch.org/event/cornestone-sewing-club/2026-04-15/
CATEGORIES:Acticities
ATTACH;FMTTYPE=image/jpeg:https://grangetownchurch.org/wp-content/uploads/2025/02/Add-a-subheading-34.jpg
END:VEVENT
BEGIN:VEVENT
DTSTART;TZID=Europe/London:20260415T120000
DTEND;TZID=Europe/London:20260415T130000
DTSTAMP:20260421T064016
CREATED:20250211T230931Z
LAST-MODIFIED:20251014T183141Z
UID:10001138-1776254400-1776258000@grangetownchurch.org
SUMMARY:Foodmarket Lunch & Look
DESCRIPTION:We’re a friendly group meeting for lunch. We look at the Bible together and see what God is saying to us. Everybody welcome whether you know anything about the Bible or not.
URL:https://grangetownchurch.org/event/lunch-look/2026-04-15/
CATEGORIES:Worship & Discipleship
ATTACH;FMTTYPE=image/jpeg:https://grangetownchurch.org/wp-content/uploads/2025/02/Add-a-subheading-3.jpg
END:VEVENT
BEGIN:VEVENT
DTSTART;TZID=Europe/London:20260415T193000
DTEND;TZID=Europe/London:20260415T210000
DTSTAMP:20260421T064016
CREATED:20250211T231147Z
LAST-MODIFIED:20251014T181706Z
UID:10000884-1776281400-1776286800@grangetownchurch.org
SUMMARY:Bible Study & Prayer Meeting
DESCRIPTION:Come and join us as we gather together on a Wednesday night to study the Bible together and pray for each other\, our church\, our community\, and our world.
URL:https://grangetownchurch.org/event/prayer-bible-study/2026-04-15/
CATEGORIES:Worship & Discipleship
ATTACH;FMTTYPE=image/png:https://grangetownchurch.org/wp-content/uploads/2025/03/Add-a-subheading-14.png
END:VEVENT
BEGIN:VEVENT
DTSTART;TZID=Europe/London:20260416T100000
DTEND;TZID=Europe/London:20260416T111500
DTSTAMP:20260421T064016
CREATED:20250212T173342Z
LAST-MODIFIED:20251014T181953Z
UID:10001907-1776333600-1776338100@grangetownchurch.org
SUMMARY:English Classes
DESCRIPTION:Come and learn English for free – speaking\, reading and writing. Beginners welcome. There is also supervised play for children\, so you can bring them with you.
URL:https://grangetownchurch.org/event/english-classes/2026-04-16/
CATEGORIES:International
ATTACH;FMTTYPE=image/png:https://grangetownchurch.org/wp-content/uploads/2025/02/24.png
END:VEVENT
BEGIN:VEVENT
DTSTART;TZID=Europe/London:20260417T100000
DTEND;TZID=Europe/London:20260417T111500
DTSTAMP:20260421T064016
CREATED:20250212T173710Z
LAST-MODIFIED:20251014T182320Z
UID:10002167-1776420000-1776424500@grangetownchurch.org
SUMMARY:English Classes
DESCRIPTION:Come and learn English for free – speaking\, reading and writing. Beginners welcome. There is also supervised play for children\, so you can bring them with you.
URL:https://grangetownchurch.org/event/english-classes-2/2026-04-17/
CATEGORIES:International
ATTACH;FMTTYPE=image/png:https://grangetownchurch.org/wp-content/uploads/2025/02/24.png
END:VEVENT
BEGIN:VEVENT
DTSTART;TZID=Europe/London:20260417T120000
DTEND;TZID=Europe/London:20260417T130000
DTSTAMP:20260421T064016
CREATED:20250513T204535Z
LAST-MODIFIED:20251014T182419Z
UID:10002688-1776427200-1776430800@grangetownchurch.org
SUMMARY:Foodmarket
DESCRIPTION:Everyone welcome. No voucher needed\, just come along for a bag of food\, a cuppa and a chat in a warm welcoming space.
URL:https://grangetownchurch.org/event/food-market-2/2026-04-17/
CATEGORIES:Help & Support
ATTACH;FMTTYPE=image/jpeg:https://grangetownchurch.org/wp-content/uploads/2025/02/5.jpg
END:VEVENT
BEGIN:VEVENT
DTSTART;TZID=Europe/London:20260417T120000
DTEND;TZID=Europe/London:20260417T140000
DTSTAMP:20260421T064016
CREATED:20250212T174131Z
LAST-MODIFIED:20251015T175409Z
UID:10007106-1776427200-1776434400@grangetownchurch.org
SUMMARY:Foodbank
DESCRIPTION:This is a service for those facing food crisis in our community. It’s run in partnership with Cardiff Foodbank. Bring your voucher and bags if you have them. A Foodbank where a voucher can be redeemed for a 3 day emergency supply of food. More information can be found here. Call 029 2087 1071 for help to get a voucher or go to the Grangetown Hub/Library in Havelock Place\, CF11 6PA.
URL:https://grangetownchurch.org/event/7385/2026-04-17/
CATEGORIES:Help & Support
ATTACH;FMTTYPE=image/jpeg:https://grangetownchurch.org/wp-content/uploads/2025/02/8.jpg
END:VEVENT
BEGIN:VEVENT
DTSTART;TZID=Europe/London:20260419T100000
DTEND;TZID=Europe/London:20260419T110000
DTSTAMP:20260421T064016
CREATED:20250410T070838Z
LAST-MODIFIED:20250410T071131Z
UID:10005568-1776592800-1776596400@grangetownchurch.org
SUMMARY:Prayer Meeting
DESCRIPTION:Come and join us as we gather together before our morning service to pray for each other\, our church\, our community\, and our world.
URL:https://grangetownchurch.org/event/prayer-meeting/2026-04-19/
ATTACH;FMTTYPE=image/png:https://grangetownchurch.org/wp-content/uploads/2025/03/Add-a-subheading-14.png
END:VEVENT
BEGIN:VEVENT
DTSTART;TZID=Europe/London:20260419T110000
DTEND;TZID=Europe/London:20260419T123000
DTSTAMP:20260421T064016
CREATED:20250212T213533Z
LAST-MODIFIED:20250212T213652Z
UID:10003329-1776596400-1776601800@grangetownchurch.org
SUMMARY:Morning service
DESCRIPTION:Come along on a Sunday morning to see what we’re all about – we hear the Bible explained\, sing\, pray and enjoy being together. All are welcome and there are supervised activities for children too. Find out more here. Tune in to this meeting livestreamed on Facebook\, YouTube\, or here on the website.
URL:https://grangetownchurch.org/event/7399/2026-04-19/
CATEGORIES:Worship & Discipleship
ATTACH;FMTTYPE=image/jpeg:https://grangetownchurch.org/wp-content/uploads/2025/02/24-min.jpg
END:VEVENT
BEGIN:VEVENT
DTSTART;TZID=Europe/London:20260419T112000
DTEND;TZID=Europe/London:20260419T123000
DTSTAMP:20260421T064016
CREATED:20250212T214341Z
LAST-MODIFIED:20250212T230754Z
UID:10003851-1776597600-1776601800@grangetownchurch.org
SUMMARY:Crèche
DESCRIPTION:Children below the age of 4 can leave the service after around 20 minutes to play with a host of toys\, in a safe environment. Two adults are in supervision.
URL:https://grangetownchurch.org/event/creche/2026-04-19/
CATEGORIES:Children & Young People,Worship & Discipleship
ATTACH;FMTTYPE=image/jpeg:https://grangetownchurch.org/wp-content/uploads/2025/02/Add-a-subheading-36.jpg
END:VEVENT
BEGIN:VEVENT
DTSTART;TZID=Europe/London:20260419T112000
DTEND;TZID=Europe/London:20260419T123000
DTSTAMP:20260421T064016
CREATED:20250212T215348Z
LAST-MODIFIED:20250212T215354Z
UID:10004112-1776597600-1776601800@grangetownchurch.org
SUMMARY:Sunday school
DESCRIPTION:Children up to 11 years can leave the service after around 20 minutes to enjoy Bible teaching\, playing\, singing\, and hanging out with their friends.
URL:https://grangetownchurch.org/event/sunday-school/2026-04-19/
CATEGORIES:Children & Young People
ATTACH;FMTTYPE=image/jpeg:https://grangetownchurch.org/wp-content/uploads/2025/02/24-min-1.jpg
END:VEVENT
BEGIN:VEVENT
DTSTART;TZID=Europe/London:20260419T180000
DTEND;TZID=Europe/London:20260419T190000
DTSTAMP:20260421T064016
CREATED:20250212T214130Z
LAST-MODIFIED:20250212T222132Z
UID:10003590-1776621600-1776625200@grangetownchurch.org
SUMMARY:Evening service
DESCRIPTION:On Sunday night we meet together for our evening service. This event is livestreamed and you can follow along and participate in any Q&A online via Facebook\, YouTube\, or here on the website.
URL:https://grangetownchurch.org/event/evening-service/2026-04-19/
CATEGORIES:Worship & Discipleship
ATTACH;FMTTYPE=image/jpeg:https://grangetownchurch.org/wp-content/uploads/2025/02/Add-a-subheading-20.jpg
END:VEVENT
END:VCALENDAR