BEGIN:VCALENDAR
VERSION:2.0
PRODID:-//Grangetown Baptist Church - ECPv6.15.14//NONSGML v1.0//EN
CALSCALE:GREGORIAN
METHOD:PUBLISH
X-WR-CALNAME:Grangetown Baptist Church
X-ORIGINAL-URL:https://grangetownchurch.org
X-WR-CALDESC:Events for Grangetown Baptist Church
REFRESH-INTERVAL;VALUE=DURATION:PT1H
X-Robots-Tag:noindex
X-PUBLISHED-TTL:PT1H
BEGIN:VTIMEZONE
TZID:Europe/London
BEGIN:DAYLIGHT
TZOFFSETFROM:+0000
TZOFFSETTO:+0100
TZNAME:BST
DTSTART:20250330T010000
END:DAYLIGHT
BEGIN:STANDARD
TZOFFSETFROM:+0100
TZOFFSETTO:+0000
TZNAME:GMT
DTSTART:20251026T010000
END:STANDARD
BEGIN:DAYLIGHT
TZOFFSETFROM:+0000
TZOFFSETTO:+0100
TZNAME:BST
DTSTART:20260329T010000
END:DAYLIGHT
BEGIN:STANDARD
TZOFFSETFROM:+0100
TZOFFSETTO:+0000
TZNAME:GMT
DTSTART:20261025T010000
END:STANDARD
BEGIN:DAYLIGHT
TZOFFSETFROM:+0000
TZOFFSETTO:+0100
TZNAME:BST
DTSTART:20270328T010000
END:DAYLIGHT
BEGIN:STANDARD
TZOFFSETFROM:+0100
TZOFFSETTO:+0000
TZNAME:GMT
DTSTART:20271031T010000
END:STANDARD
END:VTIMEZONE
BEGIN:VEVENT
DTSTART;TZID=Europe/London:20260429T120000
DTEND;TZID=Europe/London:20260429T130000
DTSTAMP:20260424T054040
CREATED:20250211T230931Z
LAST-MODIFIED:20251014T183141Z
UID:10001140-1777464000-1777467600@grangetownchurch.org
SUMMARY:Foodmarket Lunch & Look
DESCRIPTION:We’re a friendly group meeting for lunch. We look at the Bible together and see what God is saying to us. Everybody welcome whether you know anything about the Bible or not.
URL:https://grangetownchurch.org/event/lunch-look/2026-04-29/
CATEGORIES:Worship & Discipleship
ATTACH;FMTTYPE=image/jpeg:https://grangetownchurch.org/wp-content/uploads/2025/02/Add-a-subheading-3.jpg
END:VEVENT
BEGIN:VEVENT
DTSTART;TZID=Europe/London:20260506T120000
DTEND;TZID=Europe/London:20260506T130000
DTSTAMP:20260424T054040
CREATED:20250211T230931Z
LAST-MODIFIED:20251014T183141Z
UID:10001141-1778068800-1778072400@grangetownchurch.org
SUMMARY:Foodmarket Lunch & Look
DESCRIPTION:We’re a friendly group meeting for lunch. We look at the Bible together and see what God is saying to us. Everybody welcome whether you know anything about the Bible or not.
URL:https://grangetownchurch.org/event/lunch-look/2026-05-06/
CATEGORIES:Worship & Discipleship
ATTACH;FMTTYPE=image/jpeg:https://grangetownchurch.org/wp-content/uploads/2025/02/Add-a-subheading-3.jpg
END:VEVENT
BEGIN:VEVENT
DTSTART;TZID=Europe/London:20260513T120000
DTEND;TZID=Europe/London:20260513T130000
DTSTAMP:20260424T054040
CREATED:20250211T230931Z
LAST-MODIFIED:20251014T183141Z
UID:10001142-1778673600-1778677200@grangetownchurch.org
SUMMARY:Foodmarket Lunch & Look
DESCRIPTION:We’re a friendly group meeting for lunch. We look at the Bible together and see what God is saying to us. Everybody welcome whether you know anything about the Bible or not.
URL:https://grangetownchurch.org/event/lunch-look/2026-05-13/
CATEGORIES:Worship & Discipleship
ATTACH;FMTTYPE=image/jpeg:https://grangetownchurch.org/wp-content/uploads/2025/02/Add-a-subheading-3.jpg
END:VEVENT
BEGIN:VEVENT
DTSTART;TZID=Europe/London:20260520T120000
DTEND;TZID=Europe/London:20260520T130000
DTSTAMP:20260424T054040
CREATED:20250211T230931Z
LAST-MODIFIED:20251014T183141Z
UID:10001143-1779278400-1779282000@grangetownchurch.org
SUMMARY:Foodmarket Lunch & Look
DESCRIPTION:We’re a friendly group meeting for lunch. We look at the Bible together and see what God is saying to us. Everybody welcome whether you know anything about the Bible or not.
URL:https://grangetownchurch.org/event/lunch-look/2026-05-20/
CATEGORIES:Worship & Discipleship
ATTACH;FMTTYPE=image/jpeg:https://grangetownchurch.org/wp-content/uploads/2025/02/Add-a-subheading-3.jpg
END:VEVENT
BEGIN:VEVENT
DTSTART;TZID=Europe/London:20260527T120000
DTEND;TZID=Europe/London:20260527T130000
DTSTAMP:20260424T054040
CREATED:20250211T230931Z
LAST-MODIFIED:20251014T183141Z
UID:10001144-1779883200-1779886800@grangetownchurch.org
SUMMARY:Foodmarket Lunch & Look
DESCRIPTION:We’re a friendly group meeting for lunch. We look at the Bible together and see what God is saying to us. Everybody welcome whether you know anything about the Bible or not.
URL:https://grangetownchurch.org/event/lunch-look/2026-05-27/
CATEGORIES:Worship & Discipleship
ATTACH;FMTTYPE=image/jpeg:https://grangetownchurch.org/wp-content/uploads/2025/02/Add-a-subheading-3.jpg
END:VEVENT
BEGIN:VEVENT
DTSTART;TZID=Europe/London:20260603T120000
DTEND;TZID=Europe/London:20260603T130000
DTSTAMP:20260424T054040
CREATED:20250211T230931Z
LAST-MODIFIED:20251014T183141Z
UID:10001145-1780488000-1780491600@grangetownchurch.org
SUMMARY:Foodmarket Lunch & Look
DESCRIPTION:We’re a friendly group meeting for lunch. We look at the Bible together and see what God is saying to us. Everybody welcome whether you know anything about the Bible or not.
URL:https://grangetownchurch.org/event/lunch-look/2026-06-03/
CATEGORIES:Worship & Discipleship
ATTACH;FMTTYPE=image/jpeg:https://grangetownchurch.org/wp-content/uploads/2025/02/Add-a-subheading-3.jpg
END:VEVENT
BEGIN:VEVENT
DTSTART;TZID=Europe/London:20260610T120000
DTEND;TZID=Europe/London:20260610T130000
DTSTAMP:20260424T054040
CREATED:20250211T230931Z
LAST-MODIFIED:20251014T183141Z
UID:10001146-1781092800-1781096400@grangetownchurch.org
SUMMARY:Foodmarket Lunch & Look
DESCRIPTION:We’re a friendly group meeting for lunch. We look at the Bible together and see what God is saying to us. Everybody welcome whether you know anything about the Bible or not.
URL:https://grangetownchurch.org/event/lunch-look/2026-06-10/
CATEGORIES:Worship & Discipleship
ATTACH;FMTTYPE=image/jpeg:https://grangetownchurch.org/wp-content/uploads/2025/02/Add-a-subheading-3.jpg
END:VEVENT
BEGIN:VEVENT
DTSTART;TZID=Europe/London:20260617T120000
DTEND;TZID=Europe/London:20260617T130000
DTSTAMP:20260424T054040
CREATED:20250211T230931Z
LAST-MODIFIED:20251014T183141Z
UID:10001147-1781697600-1781701200@grangetownchurch.org
SUMMARY:Foodmarket Lunch & Look
DESCRIPTION:We’re a friendly group meeting for lunch. We look at the Bible together and see what God is saying to us. Everybody welcome whether you know anything about the Bible or not.
URL:https://grangetownchurch.org/event/lunch-look/2026-06-17/
CATEGORIES:Worship & Discipleship
ATTACH;FMTTYPE=image/jpeg:https://grangetownchurch.org/wp-content/uploads/2025/02/Add-a-subheading-3.jpg
END:VEVENT
BEGIN:VEVENT
DTSTART;TZID=Europe/London:20260624T120000
DTEND;TZID=Europe/London:20260624T130000
DTSTAMP:20260424T054040
CREATED:20250211T230931Z
LAST-MODIFIED:20251014T183141Z
UID:10001148-1782302400-1782306000@grangetownchurch.org
SUMMARY:Foodmarket Lunch & Look
DESCRIPTION:We’re a friendly group meeting for lunch. We look at the Bible together and see what God is saying to us. Everybody welcome whether you know anything about the Bible or not.
URL:https://grangetownchurch.org/event/lunch-look/2026-06-24/
CATEGORIES:Worship & Discipleship
ATTACH;FMTTYPE=image/jpeg:https://grangetownchurch.org/wp-content/uploads/2025/02/Add-a-subheading-3.jpg
END:VEVENT
BEGIN:VEVENT
DTSTART;TZID=Europe/London:20260701T120000
DTEND;TZID=Europe/London:20260701T130000
DTSTAMP:20260424T054040
CREATED:20250211T230931Z
LAST-MODIFIED:20251014T183141Z
UID:10001149-1782907200-1782910800@grangetownchurch.org
SUMMARY:Foodmarket Lunch & Look
DESCRIPTION:We’re a friendly group meeting for lunch. We look at the Bible together and see what God is saying to us. Everybody welcome whether you know anything about the Bible or not.
URL:https://grangetownchurch.org/event/lunch-look/2026-07-01/
CATEGORIES:Worship & Discipleship
ATTACH;FMTTYPE=image/jpeg:https://grangetownchurch.org/wp-content/uploads/2025/02/Add-a-subheading-3.jpg
END:VEVENT
BEGIN:VEVENT
DTSTART;TZID=Europe/London:20260708T120000
DTEND;TZID=Europe/London:20260708T130000
DTSTAMP:20260424T054040
CREATED:20250211T230931Z
LAST-MODIFIED:20251014T183141Z
UID:10001150-1783512000-1783515600@grangetownchurch.org
SUMMARY:Foodmarket Lunch & Look
DESCRIPTION:We’re a friendly group meeting for lunch. We look at the Bible together and see what God is saying to us. Everybody welcome whether you know anything about the Bible or not.
URL:https://grangetownchurch.org/event/lunch-look/2026-07-08/
CATEGORIES:Worship & Discipleship
ATTACH;FMTTYPE=image/jpeg:https://grangetownchurch.org/wp-content/uploads/2025/02/Add-a-subheading-3.jpg
END:VEVENT
BEGIN:VEVENT
DTSTART;TZID=Europe/London:20260715T120000
DTEND;TZID=Europe/London:20260715T130000
DTSTAMP:20260424T054040
CREATED:20250211T230931Z
LAST-MODIFIED:20251014T183141Z
UID:10001151-1784116800-1784120400@grangetownchurch.org
SUMMARY:Foodmarket Lunch & Look
DESCRIPTION:We’re a friendly group meeting for lunch. We look at the Bible together and see what God is saying to us. Everybody welcome whether you know anything about the Bible or not.
URL:https://grangetownchurch.org/event/lunch-look/2026-07-15/
CATEGORIES:Worship & Discipleship
ATTACH;FMTTYPE=image/jpeg:https://grangetownchurch.org/wp-content/uploads/2025/02/Add-a-subheading-3.jpg
END:VEVENT
BEGIN:VEVENT
DTSTART;TZID=Europe/London:20260722T120000
DTEND;TZID=Europe/London:20260722T130000
DTSTAMP:20260424T054040
CREATED:20250211T230931Z
LAST-MODIFIED:20251014T183141Z
UID:10001152-1784721600-1784725200@grangetownchurch.org
SUMMARY:Foodmarket Lunch & Look
DESCRIPTION:We’re a friendly group meeting for lunch. We look at the Bible together and see what God is saying to us. Everybody welcome whether you know anything about the Bible or not.
URL:https://grangetownchurch.org/event/lunch-look/2026-07-22/
CATEGORIES:Worship & Discipleship
ATTACH;FMTTYPE=image/jpeg:https://grangetownchurch.org/wp-content/uploads/2025/02/Add-a-subheading-3.jpg
END:VEVENT
BEGIN:VEVENT
DTSTART;TZID=Europe/London:20260729T120000
DTEND;TZID=Europe/London:20260729T130000
DTSTAMP:20260424T054040
CREATED:20250211T230931Z
LAST-MODIFIED:20251014T183141Z
UID:10001153-1785326400-1785330000@grangetownchurch.org
SUMMARY:Foodmarket Lunch & Look
DESCRIPTION:We’re a friendly group meeting for lunch. We look at the Bible together and see what God is saying to us. Everybody welcome whether you know anything about the Bible or not.
URL:https://grangetownchurch.org/event/lunch-look/2026-07-29/
CATEGORIES:Worship & Discipleship
ATTACH;FMTTYPE=image/jpeg:https://grangetownchurch.org/wp-content/uploads/2025/02/Add-a-subheading-3.jpg
END:VEVENT
BEGIN:VEVENT
DTSTART;TZID=Europe/London:20260805T120000
DTEND;TZID=Europe/London:20260805T130000
DTSTAMP:20260424T054040
CREATED:20250211T230931Z
LAST-MODIFIED:20251014T183141Z
UID:10001154-1785931200-1785934800@grangetownchurch.org
SUMMARY:Foodmarket Lunch & Look
DESCRIPTION:We’re a friendly group meeting for lunch. We look at the Bible together and see what God is saying to us. Everybody welcome whether you know anything about the Bible or not.
URL:https://grangetownchurch.org/event/lunch-look/2026-08-05/
CATEGORIES:Worship & Discipleship
ATTACH;FMTTYPE=image/jpeg:https://grangetownchurch.org/wp-content/uploads/2025/02/Add-a-subheading-3.jpg
END:VEVENT
BEGIN:VEVENT
DTSTART;TZID=Europe/London:20260812T120000
DTEND;TZID=Europe/London:20260812T130000
DTSTAMP:20260424T054040
CREATED:20250211T230931Z
LAST-MODIFIED:20251014T183141Z
UID:10001155-1786536000-1786539600@grangetownchurch.org
SUMMARY:Foodmarket Lunch & Look
DESCRIPTION:We’re a friendly group meeting for lunch. We look at the Bible together and see what God is saying to us. Everybody welcome whether you know anything about the Bible or not.
URL:https://grangetownchurch.org/event/lunch-look/2026-08-12/
CATEGORIES:Worship & Discipleship
ATTACH;FMTTYPE=image/jpeg:https://grangetownchurch.org/wp-content/uploads/2025/02/Add-a-subheading-3.jpg
END:VEVENT
BEGIN:VEVENT
DTSTART;TZID=Europe/London:20260819T120000
DTEND;TZID=Europe/London:20260819T130000
DTSTAMP:20260424T054040
CREATED:20250211T230931Z
LAST-MODIFIED:20251014T183141Z
UID:10001156-1787140800-1787144400@grangetownchurch.org
SUMMARY:Foodmarket Lunch & Look
DESCRIPTION:We’re a friendly group meeting for lunch. We look at the Bible together and see what God is saying to us. Everybody welcome whether you know anything about the Bible or not.
URL:https://grangetownchurch.org/event/lunch-look/2026-08-19/
CATEGORIES:Worship & Discipleship
ATTACH;FMTTYPE=image/jpeg:https://grangetownchurch.org/wp-content/uploads/2025/02/Add-a-subheading-3.jpg
END:VEVENT
BEGIN:VEVENT
DTSTART;TZID=Europe/London:20260826T120000
DTEND;TZID=Europe/London:20260826T130000
DTSTAMP:20260424T054040
CREATED:20250211T230931Z
LAST-MODIFIED:20251014T183141Z
UID:10001157-1787745600-1787749200@grangetownchurch.org
SUMMARY:Foodmarket Lunch & Look
DESCRIPTION:We’re a friendly group meeting for lunch. We look at the Bible together and see what God is saying to us. Everybody welcome whether you know anything about the Bible or not.
URL:https://grangetownchurch.org/event/lunch-look/2026-08-26/
CATEGORIES:Worship & Discipleship
ATTACH;FMTTYPE=image/jpeg:https://grangetownchurch.org/wp-content/uploads/2025/02/Add-a-subheading-3.jpg
END:VEVENT
BEGIN:VEVENT
DTSTART;TZID=Europe/London:20260902T120000
DTEND;TZID=Europe/London:20260902T130000
DTSTAMP:20260424T054040
CREATED:20250211T230931Z
LAST-MODIFIED:20251014T183141Z
UID:10001158-1788350400-1788354000@grangetownchurch.org
SUMMARY:Foodmarket Lunch & Look
DESCRIPTION:We’re a friendly group meeting for lunch. We look at the Bible together and see what God is saying to us. Everybody welcome whether you know anything about the Bible or not.
URL:https://grangetownchurch.org/event/lunch-look/2026-09-02/
CATEGORIES:Worship & Discipleship
ATTACH;FMTTYPE=image/jpeg:https://grangetownchurch.org/wp-content/uploads/2025/02/Add-a-subheading-3.jpg
END:VEVENT
BEGIN:VEVENT
DTSTART;TZID=Europe/London:20260909T120000
DTEND;TZID=Europe/London:20260909T130000
DTSTAMP:20260424T054040
CREATED:20250211T230931Z
LAST-MODIFIED:20251014T183141Z
UID:10001159-1788955200-1788958800@grangetownchurch.org
SUMMARY:Foodmarket Lunch & Look
DESCRIPTION:We’re a friendly group meeting for lunch. We look at the Bible together and see what God is saying to us. Everybody welcome whether you know anything about the Bible or not.
URL:https://grangetownchurch.org/event/lunch-look/2026-09-09/
CATEGORIES:Worship & Discipleship
ATTACH;FMTTYPE=image/jpeg:https://grangetownchurch.org/wp-content/uploads/2025/02/Add-a-subheading-3.jpg
END:VEVENT
BEGIN:VEVENT
DTSTART;TZID=Europe/London:20260916T120000
DTEND;TZID=Europe/London:20260916T130000
DTSTAMP:20260424T054040
CREATED:20250211T230931Z
LAST-MODIFIED:20251014T183141Z
UID:10001160-1789560000-1789563600@grangetownchurch.org
SUMMARY:Foodmarket Lunch & Look
DESCRIPTION:We’re a friendly group meeting for lunch. We look at the Bible together and see what God is saying to us. Everybody welcome whether you know anything about the Bible or not.
URL:https://grangetownchurch.org/event/lunch-look/2026-09-16/
CATEGORIES:Worship & Discipleship
ATTACH;FMTTYPE=image/jpeg:https://grangetownchurch.org/wp-content/uploads/2025/02/Add-a-subheading-3.jpg
END:VEVENT
BEGIN:VEVENT
DTSTART;TZID=Europe/London:20260923T120000
DTEND;TZID=Europe/London:20260923T130000
DTSTAMP:20260424T054040
CREATED:20250211T230931Z
LAST-MODIFIED:20251014T183141Z
UID:10001161-1790164800-1790168400@grangetownchurch.org
SUMMARY:Foodmarket Lunch & Look
DESCRIPTION:We’re a friendly group meeting for lunch. We look at the Bible together and see what God is saying to us. Everybody welcome whether you know anything about the Bible or not.
URL:https://grangetownchurch.org/event/lunch-look/2026-09-23/
CATEGORIES:Worship & Discipleship
ATTACH;FMTTYPE=image/jpeg:https://grangetownchurch.org/wp-content/uploads/2025/02/Add-a-subheading-3.jpg
END:VEVENT
BEGIN:VEVENT
DTSTART;TZID=Europe/London:20260930T120000
DTEND;TZID=Europe/London:20260930T130000
DTSTAMP:20260424T054040
CREATED:20250211T230931Z
LAST-MODIFIED:20251014T183141Z
UID:10001162-1790769600-1790773200@grangetownchurch.org
SUMMARY:Foodmarket Lunch & Look
DESCRIPTION:We’re a friendly group meeting for lunch. We look at the Bible together and see what God is saying to us. Everybody welcome whether you know anything about the Bible or not.
URL:https://grangetownchurch.org/event/lunch-look/2026-09-30/
CATEGORIES:Worship & Discipleship
ATTACH;FMTTYPE=image/jpeg:https://grangetownchurch.org/wp-content/uploads/2025/02/Add-a-subheading-3.jpg
END:VEVENT
BEGIN:VEVENT
DTSTART;TZID=Europe/London:20261007T120000
DTEND;TZID=Europe/London:20261007T130000
DTSTAMP:20260424T054040
CREATED:20250211T230931Z
LAST-MODIFIED:20251014T183141Z
UID:10001163-1791374400-1791378000@grangetownchurch.org
SUMMARY:Foodmarket Lunch & Look
DESCRIPTION:We’re a friendly group meeting for lunch. We look at the Bible together and see what God is saying to us. Everybody welcome whether you know anything about the Bible or not.
URL:https://grangetownchurch.org/event/lunch-look/2026-10-07/
CATEGORIES:Worship & Discipleship
ATTACH;FMTTYPE=image/jpeg:https://grangetownchurch.org/wp-content/uploads/2025/02/Add-a-subheading-3.jpg
END:VEVENT
BEGIN:VEVENT
DTSTART;TZID=Europe/London:20261014T120000
DTEND;TZID=Europe/London:20261014T130000
DTSTAMP:20260424T054040
CREATED:20250211T230931Z
LAST-MODIFIED:20251014T183141Z
UID:10001164-1791979200-1791982800@grangetownchurch.org
SUMMARY:Foodmarket Lunch & Look
DESCRIPTION:We’re a friendly group meeting for lunch. We look at the Bible together and see what God is saying to us. Everybody welcome whether you know anything about the Bible or not.
URL:https://grangetownchurch.org/event/lunch-look/2026-10-14/
CATEGORIES:Worship & Discipleship
ATTACH;FMTTYPE=image/jpeg:https://grangetownchurch.org/wp-content/uploads/2025/02/Add-a-subheading-3.jpg
END:VEVENT
BEGIN:VEVENT
DTSTART;TZID=Europe/London:20261021T120000
DTEND;TZID=Europe/London:20261021T130000
DTSTAMP:20260424T054040
CREATED:20250211T230931Z
LAST-MODIFIED:20251014T183141Z
UID:10001165-1792584000-1792587600@grangetownchurch.org
SUMMARY:Foodmarket Lunch & Look
DESCRIPTION:We’re a friendly group meeting for lunch. We look at the Bible together and see what God is saying to us. Everybody welcome whether you know anything about the Bible or not.
URL:https://grangetownchurch.org/event/lunch-look/2026-10-21/
CATEGORIES:Worship & Discipleship
ATTACH;FMTTYPE=image/jpeg:https://grangetownchurch.org/wp-content/uploads/2025/02/Add-a-subheading-3.jpg
END:VEVENT
BEGIN:VEVENT
DTSTART;TZID=Europe/London:20261028T120000
DTEND;TZID=Europe/London:20261028T130000
DTSTAMP:20260424T054040
CREATED:20250211T230931Z
LAST-MODIFIED:20251014T183141Z
UID:10001166-1793188800-1793192400@grangetownchurch.org
SUMMARY:Foodmarket Lunch & Look
DESCRIPTION:We’re a friendly group meeting for lunch. We look at the Bible together and see what God is saying to us. Everybody welcome whether you know anything about the Bible or not.
URL:https://grangetownchurch.org/event/lunch-look/2026-10-28/
CATEGORIES:Worship & Discipleship
ATTACH;FMTTYPE=image/jpeg:https://grangetownchurch.org/wp-content/uploads/2025/02/Add-a-subheading-3.jpg
END:VEVENT
BEGIN:VEVENT
DTSTART;TZID=Europe/London:20261104T120000
DTEND;TZID=Europe/London:20261104T130000
DTSTAMP:20260424T054040
CREATED:20250211T230931Z
LAST-MODIFIED:20251014T183141Z
UID:10001167-1793793600-1793797200@grangetownchurch.org
SUMMARY:Foodmarket Lunch & Look
DESCRIPTION:We’re a friendly group meeting for lunch. We look at the Bible together and see what God is saying to us. Everybody welcome whether you know anything about the Bible or not.
URL:https://grangetownchurch.org/event/lunch-look/2026-11-04/
CATEGORIES:Worship & Discipleship
ATTACH;FMTTYPE=image/jpeg:https://grangetownchurch.org/wp-content/uploads/2025/02/Add-a-subheading-3.jpg
END:VEVENT
BEGIN:VEVENT
DTSTART;TZID=Europe/London:20261111T120000
DTEND;TZID=Europe/London:20261111T130000
DTSTAMP:20260424T054040
CREATED:20250211T230931Z
LAST-MODIFIED:20251014T183141Z
UID:10001168-1794398400-1794402000@grangetownchurch.org
SUMMARY:Foodmarket Lunch & Look
DESCRIPTION:We’re a friendly group meeting for lunch. We look at the Bible together and see what God is saying to us. Everybody welcome whether you know anything about the Bible or not.
URL:https://grangetownchurch.org/event/lunch-look/2026-11-11/
CATEGORIES:Worship & Discipleship
ATTACH;FMTTYPE=image/jpeg:https://grangetownchurch.org/wp-content/uploads/2025/02/Add-a-subheading-3.jpg
END:VEVENT
BEGIN:VEVENT
DTSTART;TZID=Europe/London:20261118T120000
DTEND;TZID=Europe/London:20261118T130000
DTSTAMP:20260424T054040
CREATED:20250211T230931Z
LAST-MODIFIED:20251014T183141Z
UID:10001169-1795003200-1795006800@grangetownchurch.org
SUMMARY:Foodmarket Lunch & Look
DESCRIPTION:We’re a friendly group meeting for lunch. We look at the Bible together and see what God is saying to us. Everybody welcome whether you know anything about the Bible or not.
URL:https://grangetownchurch.org/event/lunch-look/2026-11-18/
CATEGORIES:Worship & Discipleship
ATTACH;FMTTYPE=image/jpeg:https://grangetownchurch.org/wp-content/uploads/2025/02/Add-a-subheading-3.jpg
END:VEVENT
END:VCALENDAR