BEGIN:VCALENDAR
VERSION:2.0
PRODID:-//Grangetown Baptist Church - ECPv6.15.14//NONSGML v1.0//EN
CALSCALE:GREGORIAN
METHOD:PUBLISH
X-WR-CALNAME:Grangetown Baptist Church
X-ORIGINAL-URL:https://grangetownchurch.org
X-WR-CALDESC:Events for Grangetown Baptist Church
REFRESH-INTERVAL;VALUE=DURATION:PT1H
X-Robots-Tag:noindex
X-PUBLISHED-TTL:PT1H
BEGIN:VTIMEZONE
TZID:Europe/London
BEGIN:DAYLIGHT
TZOFFSETFROM:+0000
TZOFFSETTO:+0100
TZNAME:BST
DTSTART:20250330T010000
END:DAYLIGHT
BEGIN:STANDARD
TZOFFSETFROM:+0100
TZOFFSETTO:+0000
TZNAME:GMT
DTSTART:20251026T010000
END:STANDARD
BEGIN:DAYLIGHT
TZOFFSETFROM:+0000
TZOFFSETTO:+0100
TZNAME:BST
DTSTART:20260329T010000
END:DAYLIGHT
BEGIN:STANDARD
TZOFFSETFROM:+0100
TZOFFSETTO:+0000
TZNAME:GMT
DTSTART:20261025T010000
END:STANDARD
BEGIN:DAYLIGHT
TZOFFSETFROM:+0000
TZOFFSETTO:+0100
TZNAME:BST
DTSTART:20270328T010000
END:DAYLIGHT
BEGIN:STANDARD
TZOFFSETFROM:+0100
TZOFFSETTO:+0000
TZNAME:GMT
DTSTART:20271031T010000
END:STANDARD
END:VTIMEZONE
BEGIN:VEVENT
DTSTART;TZID=Europe/London:20260429T110000
DTEND;TZID=Europe/London:20260429T130000
DTSTAMP:20260424T035435
CREATED:20250212T225022Z
LAST-MODIFIED:20251014T183228Z
UID:10001395-1777460400-1777467600@grangetownchurch.org
SUMMARY:Cornestone Sewing Club
DESCRIPTION:If you would like to do some sewing and quilting\, have a cuppa and chat why not come along and join us every Wednesday during term time. From enthusiastic beginners to experienced quilters everyone is welcome. \n\n\n\nLimited spaces so contact Sheila for availability.
URL:https://grangetownchurch.org/event/cornestone-sewing-club/2026-04-29/
CATEGORIES:Acticities
ATTACH;FMTTYPE=image/jpeg:https://grangetownchurch.org/wp-content/uploads/2025/02/Add-a-subheading-34.jpg
END:VEVENT
BEGIN:VEVENT
DTSTART;TZID=Europe/London:20260506T110000
DTEND;TZID=Europe/London:20260506T130000
DTSTAMP:20260424T035435
CREATED:20250212T225022Z
LAST-MODIFIED:20251014T183228Z
UID:10001396-1778065200-1778072400@grangetownchurch.org
SUMMARY:Cornestone Sewing Club
DESCRIPTION:If you would like to do some sewing and quilting\, have a cuppa and chat why not come along and join us every Wednesday during term time. From enthusiastic beginners to experienced quilters everyone is welcome. \n\n\n\nLimited spaces so contact Sheila for availability.
URL:https://grangetownchurch.org/event/cornestone-sewing-club/2026-05-06/
CATEGORIES:Acticities
ATTACH;FMTTYPE=image/jpeg:https://grangetownchurch.org/wp-content/uploads/2025/02/Add-a-subheading-34.jpg
END:VEVENT
BEGIN:VEVENT
DTSTART;TZID=Europe/London:20260513T110000
DTEND;TZID=Europe/London:20260513T130000
DTSTAMP:20260424T035435
CREATED:20250212T225022Z
LAST-MODIFIED:20251014T183228Z
UID:10001397-1778670000-1778677200@grangetownchurch.org
SUMMARY:Cornestone Sewing Club
DESCRIPTION:If you would like to do some sewing and quilting\, have a cuppa and chat why not come along and join us every Wednesday during term time. From enthusiastic beginners to experienced quilters everyone is welcome. \n\n\n\nLimited spaces so contact Sheila for availability.
URL:https://grangetownchurch.org/event/cornestone-sewing-club/2026-05-13/
CATEGORIES:Acticities
ATTACH;FMTTYPE=image/jpeg:https://grangetownchurch.org/wp-content/uploads/2025/02/Add-a-subheading-34.jpg
END:VEVENT
BEGIN:VEVENT
DTSTART;TZID=Europe/London:20260520T110000
DTEND;TZID=Europe/London:20260520T130000
DTSTAMP:20260424T035435
CREATED:20250212T225022Z
LAST-MODIFIED:20251014T183228Z
UID:10001398-1779274800-1779282000@grangetownchurch.org
SUMMARY:Cornestone Sewing Club
DESCRIPTION:If you would like to do some sewing and quilting\, have a cuppa and chat why not come along and join us every Wednesday during term time. From enthusiastic beginners to experienced quilters everyone is welcome. \n\n\n\nLimited spaces so contact Sheila for availability.
URL:https://grangetownchurch.org/event/cornestone-sewing-club/2026-05-20/
CATEGORIES:Acticities
ATTACH;FMTTYPE=image/jpeg:https://grangetownchurch.org/wp-content/uploads/2025/02/Add-a-subheading-34.jpg
END:VEVENT
BEGIN:VEVENT
DTSTART;TZID=Europe/London:20260527T110000
DTEND;TZID=Europe/London:20260527T130000
DTSTAMP:20260424T035435
CREATED:20250212T225022Z
LAST-MODIFIED:20251014T183228Z
UID:10001399-1779879600-1779886800@grangetownchurch.org
SUMMARY:Cornestone Sewing Club
DESCRIPTION:If you would like to do some sewing and quilting\, have a cuppa and chat why not come along and join us every Wednesday during term time. From enthusiastic beginners to experienced quilters everyone is welcome. \n\n\n\nLimited spaces so contact Sheila for availability.
URL:https://grangetownchurch.org/event/cornestone-sewing-club/2026-05-27/
CATEGORIES:Acticities
ATTACH;FMTTYPE=image/jpeg:https://grangetownchurch.org/wp-content/uploads/2025/02/Add-a-subheading-34.jpg
END:VEVENT
BEGIN:VEVENT
DTSTART;TZID=Europe/London:20260527T110000
DTEND;TZID=Europe/London:20260527T130000
DTSTAMP:20260424T035435
CREATED:20250513T203024Z
LAST-MODIFIED:20250513T203031Z
UID:10001347-1779879600-1779886800@grangetownchurch.org
SUMMARY:Cornestone Sewing Club
DESCRIPTION:If you would like to do some sewing and quilting\, have a cuppa and chat why not come along and join us every Wednesday during term time. From enthusiastic beginners to experienced quilters everyone is welcome. \n\n\n\nLimited spaces so contact Sheila for availability.
URL:https://grangetownchurch.org/event/cornestone-sewing-club-2/
CATEGORIES:Acticities
ATTACH;FMTTYPE=image/jpeg:https://grangetownchurch.org/wp-content/uploads/2025/02/Add-a-subheading-34.jpg
END:VEVENT
BEGIN:VEVENT
DTSTART;TZID=Europe/London:20260603T110000
DTEND;TZID=Europe/London:20260603T130000
DTSTAMP:20260424T035435
CREATED:20250212T225022Z
LAST-MODIFIED:20251014T183228Z
UID:10001400-1780484400-1780491600@grangetownchurch.org
SUMMARY:Cornestone Sewing Club
DESCRIPTION:If you would like to do some sewing and quilting\, have a cuppa and chat why not come along and join us every Wednesday during term time. From enthusiastic beginners to experienced quilters everyone is welcome. \n\n\n\nLimited spaces so contact Sheila for availability.
URL:https://grangetownchurch.org/event/cornestone-sewing-club/2026-06-03/
CATEGORIES:Acticities
ATTACH;FMTTYPE=image/jpeg:https://grangetownchurch.org/wp-content/uploads/2025/02/Add-a-subheading-34.jpg
END:VEVENT
BEGIN:VEVENT
DTSTART;TZID=Europe/London:20260610T110000
DTEND;TZID=Europe/London:20260610T130000
DTSTAMP:20260424T035435
CREATED:20250212T225022Z
LAST-MODIFIED:20251014T183228Z
UID:10001401-1781089200-1781096400@grangetownchurch.org
SUMMARY:Cornestone Sewing Club
DESCRIPTION:If you would like to do some sewing and quilting\, have a cuppa and chat why not come along and join us every Wednesday during term time. From enthusiastic beginners to experienced quilters everyone is welcome. \n\n\n\nLimited spaces so contact Sheila for availability.
URL:https://grangetownchurch.org/event/cornestone-sewing-club/2026-06-10/
CATEGORIES:Acticities
ATTACH;FMTTYPE=image/jpeg:https://grangetownchurch.org/wp-content/uploads/2025/02/Add-a-subheading-34.jpg
END:VEVENT
BEGIN:VEVENT
DTSTART;TZID=Europe/London:20260617T110000
DTEND;TZID=Europe/London:20260617T130000
DTSTAMP:20260424T035435
CREATED:20250212T225022Z
LAST-MODIFIED:20251014T183228Z
UID:10001402-1781694000-1781701200@grangetownchurch.org
SUMMARY:Cornestone Sewing Club
DESCRIPTION:If you would like to do some sewing and quilting\, have a cuppa and chat why not come along and join us every Wednesday during term time. From enthusiastic beginners to experienced quilters everyone is welcome. \n\n\n\nLimited spaces so contact Sheila for availability.
URL:https://grangetownchurch.org/event/cornestone-sewing-club/2026-06-17/
CATEGORIES:Acticities
ATTACH;FMTTYPE=image/jpeg:https://grangetownchurch.org/wp-content/uploads/2025/02/Add-a-subheading-34.jpg
END:VEVENT
BEGIN:VEVENT
DTSTART;TZID=Europe/London:20260624T110000
DTEND;TZID=Europe/London:20260624T130000
DTSTAMP:20260424T035435
CREATED:20250212T225022Z
LAST-MODIFIED:20251014T183228Z
UID:10001403-1782298800-1782306000@grangetownchurch.org
SUMMARY:Cornestone Sewing Club
DESCRIPTION:If you would like to do some sewing and quilting\, have a cuppa and chat why not come along and join us every Wednesday during term time. From enthusiastic beginners to experienced quilters everyone is welcome. \n\n\n\nLimited spaces so contact Sheila for availability.
URL:https://grangetownchurch.org/event/cornestone-sewing-club/2026-06-24/
CATEGORIES:Acticities
ATTACH;FMTTYPE=image/jpeg:https://grangetownchurch.org/wp-content/uploads/2025/02/Add-a-subheading-34.jpg
END:VEVENT
BEGIN:VEVENT
DTSTART;TZID=Europe/London:20260701T110000
DTEND;TZID=Europe/London:20260701T130000
DTSTAMP:20260424T035435
CREATED:20250212T225022Z
LAST-MODIFIED:20251014T183228Z
UID:10001404-1782903600-1782910800@grangetownchurch.org
SUMMARY:Cornestone Sewing Club
DESCRIPTION:If you would like to do some sewing and quilting\, have a cuppa and chat why not come along and join us every Wednesday during term time. From enthusiastic beginners to experienced quilters everyone is welcome. \n\n\n\nLimited spaces so contact Sheila for availability.
URL:https://grangetownchurch.org/event/cornestone-sewing-club/2026-07-01/
CATEGORIES:Acticities
ATTACH;FMTTYPE=image/jpeg:https://grangetownchurch.org/wp-content/uploads/2025/02/Add-a-subheading-34.jpg
END:VEVENT
BEGIN:VEVENT
DTSTART;TZID=Europe/London:20260708T110000
DTEND;TZID=Europe/London:20260708T130000
DTSTAMP:20260424T035435
CREATED:20250212T225022Z
LAST-MODIFIED:20251014T183228Z
UID:10001405-1783508400-1783515600@grangetownchurch.org
SUMMARY:Cornestone Sewing Club
DESCRIPTION:If you would like to do some sewing and quilting\, have a cuppa and chat why not come along and join us every Wednesday during term time. From enthusiastic beginners to experienced quilters everyone is welcome. \n\n\n\nLimited spaces so contact Sheila for availability.
URL:https://grangetownchurch.org/event/cornestone-sewing-club/2026-07-08/
CATEGORIES:Acticities
ATTACH;FMTTYPE=image/jpeg:https://grangetownchurch.org/wp-content/uploads/2025/02/Add-a-subheading-34.jpg
END:VEVENT
BEGIN:VEVENT
DTSTART;TZID=Europe/London:20260715T110000
DTEND;TZID=Europe/London:20260715T130000
DTSTAMP:20260424T035435
CREATED:20250212T225022Z
LAST-MODIFIED:20251014T183228Z
UID:10001406-1784113200-1784120400@grangetownchurch.org
SUMMARY:Cornestone Sewing Club
DESCRIPTION:If you would like to do some sewing and quilting\, have a cuppa and chat why not come along and join us every Wednesday during term time. From enthusiastic beginners to experienced quilters everyone is welcome. \n\n\n\nLimited spaces so contact Sheila for availability.
URL:https://grangetownchurch.org/event/cornestone-sewing-club/2026-07-15/
CATEGORIES:Acticities
ATTACH;FMTTYPE=image/jpeg:https://grangetownchurch.org/wp-content/uploads/2025/02/Add-a-subheading-34.jpg
END:VEVENT
BEGIN:VEVENT
DTSTART;TZID=Europe/London:20260722T110000
DTEND;TZID=Europe/London:20260722T130000
DTSTAMP:20260424T035435
CREATED:20250212T225022Z
LAST-MODIFIED:20251014T183228Z
UID:10001407-1784718000-1784725200@grangetownchurch.org
SUMMARY:Cornestone Sewing Club
DESCRIPTION:If you would like to do some sewing and quilting\, have a cuppa and chat why not come along and join us every Wednesday during term time. From enthusiastic beginners to experienced quilters everyone is welcome. \n\n\n\nLimited spaces so contact Sheila for availability.
URL:https://grangetownchurch.org/event/cornestone-sewing-club/2026-07-22/
CATEGORIES:Acticities
ATTACH;FMTTYPE=image/jpeg:https://grangetownchurch.org/wp-content/uploads/2025/02/Add-a-subheading-34.jpg
END:VEVENT
BEGIN:VEVENT
DTSTART;TZID=Europe/London:20260729T110000
DTEND;TZID=Europe/London:20260729T130000
DTSTAMP:20260424T035435
CREATED:20250212T225022Z
LAST-MODIFIED:20251014T183228Z
UID:10001408-1785322800-1785330000@grangetownchurch.org
SUMMARY:Cornestone Sewing Club
DESCRIPTION:If you would like to do some sewing and quilting\, have a cuppa and chat why not come along and join us every Wednesday during term time. From enthusiastic beginners to experienced quilters everyone is welcome. \n\n\n\nLimited spaces so contact Sheila for availability.
URL:https://grangetownchurch.org/event/cornestone-sewing-club/2026-07-29/
CATEGORIES:Acticities
ATTACH;FMTTYPE=image/jpeg:https://grangetownchurch.org/wp-content/uploads/2025/02/Add-a-subheading-34.jpg
END:VEVENT
BEGIN:VEVENT
DTSTART;TZID=Europe/London:20260805T110000
DTEND;TZID=Europe/London:20260805T130000
DTSTAMP:20260424T035435
CREATED:20250212T225022Z
LAST-MODIFIED:20251014T183228Z
UID:10001409-1785927600-1785934800@grangetownchurch.org
SUMMARY:Cornestone Sewing Club
DESCRIPTION:If you would like to do some sewing and quilting\, have a cuppa and chat why not come along and join us every Wednesday during term time. From enthusiastic beginners to experienced quilters everyone is welcome. \n\n\n\nLimited spaces so contact Sheila for availability.
URL:https://grangetownchurch.org/event/cornestone-sewing-club/2026-08-05/
CATEGORIES:Acticities
ATTACH;FMTTYPE=image/jpeg:https://grangetownchurch.org/wp-content/uploads/2025/02/Add-a-subheading-34.jpg
END:VEVENT
BEGIN:VEVENT
DTSTART;TZID=Europe/London:20260812T110000
DTEND;TZID=Europe/London:20260812T130000
DTSTAMP:20260424T035435
CREATED:20250212T225022Z
LAST-MODIFIED:20251014T183228Z
UID:10001410-1786532400-1786539600@grangetownchurch.org
SUMMARY:Cornestone Sewing Club
DESCRIPTION:If you would like to do some sewing and quilting\, have a cuppa and chat why not come along and join us every Wednesday during term time. From enthusiastic beginners to experienced quilters everyone is welcome. \n\n\n\nLimited spaces so contact Sheila for availability.
URL:https://grangetownchurch.org/event/cornestone-sewing-club/2026-08-12/
CATEGORIES:Acticities
ATTACH;FMTTYPE=image/jpeg:https://grangetownchurch.org/wp-content/uploads/2025/02/Add-a-subheading-34.jpg
END:VEVENT
BEGIN:VEVENT
DTSTART;TZID=Europe/London:20260819T110000
DTEND;TZID=Europe/London:20260819T130000
DTSTAMP:20260424T035435
CREATED:20250212T225022Z
LAST-MODIFIED:20251014T183228Z
UID:10001411-1787137200-1787144400@grangetownchurch.org
SUMMARY:Cornestone Sewing Club
DESCRIPTION:If you would like to do some sewing and quilting\, have a cuppa and chat why not come along and join us every Wednesday during term time. From enthusiastic beginners to experienced quilters everyone is welcome. \n\n\n\nLimited spaces so contact Sheila for availability.
URL:https://grangetownchurch.org/event/cornestone-sewing-club/2026-08-19/
CATEGORIES:Acticities
ATTACH;FMTTYPE=image/jpeg:https://grangetownchurch.org/wp-content/uploads/2025/02/Add-a-subheading-34.jpg
END:VEVENT
BEGIN:VEVENT
DTSTART;TZID=Europe/London:20260826T110000
DTEND;TZID=Europe/London:20260826T130000
DTSTAMP:20260424T035435
CREATED:20250212T225022Z
LAST-MODIFIED:20251014T183228Z
UID:10001412-1787742000-1787749200@grangetownchurch.org
SUMMARY:Cornestone Sewing Club
DESCRIPTION:If you would like to do some sewing and quilting\, have a cuppa and chat why not come along and join us every Wednesday during term time. From enthusiastic beginners to experienced quilters everyone is welcome. \n\n\n\nLimited spaces so contact Sheila for availability.
URL:https://grangetownchurch.org/event/cornestone-sewing-club/2026-08-26/
CATEGORIES:Acticities
ATTACH;FMTTYPE=image/jpeg:https://grangetownchurch.org/wp-content/uploads/2025/02/Add-a-subheading-34.jpg
END:VEVENT
BEGIN:VEVENT
DTSTART;TZID=Europe/London:20260902T110000
DTEND;TZID=Europe/London:20260902T130000
DTSTAMP:20260424T035435
CREATED:20250212T225022Z
LAST-MODIFIED:20251014T183228Z
UID:10001413-1788346800-1788354000@grangetownchurch.org
SUMMARY:Cornestone Sewing Club
DESCRIPTION:If you would like to do some sewing and quilting\, have a cuppa and chat why not come along and join us every Wednesday during term time. From enthusiastic beginners to experienced quilters everyone is welcome. \n\n\n\nLimited spaces so contact Sheila for availability.
URL:https://grangetownchurch.org/event/cornestone-sewing-club/2026-09-02/
CATEGORIES:Acticities
ATTACH;FMTTYPE=image/jpeg:https://grangetownchurch.org/wp-content/uploads/2025/02/Add-a-subheading-34.jpg
END:VEVENT
BEGIN:VEVENT
DTSTART;TZID=Europe/London:20260909T110000
DTEND;TZID=Europe/London:20260909T130000
DTSTAMP:20260424T035435
CREATED:20250212T225022Z
LAST-MODIFIED:20251014T183228Z
UID:10001414-1788951600-1788958800@grangetownchurch.org
SUMMARY:Cornestone Sewing Club
DESCRIPTION:If you would like to do some sewing and quilting\, have a cuppa and chat why not come along and join us every Wednesday during term time. From enthusiastic beginners to experienced quilters everyone is welcome. \n\n\n\nLimited spaces so contact Sheila for availability.
URL:https://grangetownchurch.org/event/cornestone-sewing-club/2026-09-09/
CATEGORIES:Acticities
ATTACH;FMTTYPE=image/jpeg:https://grangetownchurch.org/wp-content/uploads/2025/02/Add-a-subheading-34.jpg
END:VEVENT
BEGIN:VEVENT
DTSTART;TZID=Europe/London:20260916T110000
DTEND;TZID=Europe/London:20260916T130000
DTSTAMP:20260424T035435
CREATED:20250212T225022Z
LAST-MODIFIED:20251014T183228Z
UID:10001415-1789556400-1789563600@grangetownchurch.org
SUMMARY:Cornestone Sewing Club
DESCRIPTION:If you would like to do some sewing and quilting\, have a cuppa and chat why not come along and join us every Wednesday during term time. From enthusiastic beginners to experienced quilters everyone is welcome. \n\n\n\nLimited spaces so contact Sheila for availability.
URL:https://grangetownchurch.org/event/cornestone-sewing-club/2026-09-16/
CATEGORIES:Acticities
ATTACH;FMTTYPE=image/jpeg:https://grangetownchurch.org/wp-content/uploads/2025/02/Add-a-subheading-34.jpg
END:VEVENT
BEGIN:VEVENT
DTSTART;TZID=Europe/London:20260923T110000
DTEND;TZID=Europe/London:20260923T130000
DTSTAMP:20260424T035435
CREATED:20250212T225022Z
LAST-MODIFIED:20251014T183228Z
UID:10001416-1790161200-1790168400@grangetownchurch.org
SUMMARY:Cornestone Sewing Club
DESCRIPTION:If you would like to do some sewing and quilting\, have a cuppa and chat why not come along and join us every Wednesday during term time. From enthusiastic beginners to experienced quilters everyone is welcome. \n\n\n\nLimited spaces so contact Sheila for availability.
URL:https://grangetownchurch.org/event/cornestone-sewing-club/2026-09-23/
CATEGORIES:Acticities
ATTACH;FMTTYPE=image/jpeg:https://grangetownchurch.org/wp-content/uploads/2025/02/Add-a-subheading-34.jpg
END:VEVENT
BEGIN:VEVENT
DTSTART;TZID=Europe/London:20260930T110000
DTEND;TZID=Europe/London:20260930T130000
DTSTAMP:20260424T035435
CREATED:20250212T225022Z
LAST-MODIFIED:20251014T183228Z
UID:10001417-1790766000-1790773200@grangetownchurch.org
SUMMARY:Cornestone Sewing Club
DESCRIPTION:If you would like to do some sewing and quilting\, have a cuppa and chat why not come along and join us every Wednesday during term time. From enthusiastic beginners to experienced quilters everyone is welcome. \n\n\n\nLimited spaces so contact Sheila for availability.
URL:https://grangetownchurch.org/event/cornestone-sewing-club/2026-09-30/
CATEGORIES:Acticities
ATTACH;FMTTYPE=image/jpeg:https://grangetownchurch.org/wp-content/uploads/2025/02/Add-a-subheading-34.jpg
END:VEVENT
BEGIN:VEVENT
DTSTART;TZID=Europe/London:20261007T110000
DTEND;TZID=Europe/London:20261007T130000
DTSTAMP:20260424T035435
CREATED:20250212T225022Z
LAST-MODIFIED:20251014T183228Z
UID:10001418-1791370800-1791378000@grangetownchurch.org
SUMMARY:Cornestone Sewing Club
DESCRIPTION:If you would like to do some sewing and quilting\, have a cuppa and chat why not come along and join us every Wednesday during term time. From enthusiastic beginners to experienced quilters everyone is welcome. \n\n\n\nLimited spaces so contact Sheila for availability.
URL:https://grangetownchurch.org/event/cornestone-sewing-club/2026-10-07/
CATEGORIES:Acticities
ATTACH;FMTTYPE=image/jpeg:https://grangetownchurch.org/wp-content/uploads/2025/02/Add-a-subheading-34.jpg
END:VEVENT
BEGIN:VEVENT
DTSTART;TZID=Europe/London:20261014T110000
DTEND;TZID=Europe/London:20261014T130000
DTSTAMP:20260424T035435
CREATED:20250212T225022Z
LAST-MODIFIED:20251014T183228Z
UID:10001419-1791975600-1791982800@grangetownchurch.org
SUMMARY:Cornestone Sewing Club
DESCRIPTION:If you would like to do some sewing and quilting\, have a cuppa and chat why not come along and join us every Wednesday during term time. From enthusiastic beginners to experienced quilters everyone is welcome. \n\n\n\nLimited spaces so contact Sheila for availability.
URL:https://grangetownchurch.org/event/cornestone-sewing-club/2026-10-14/
CATEGORIES:Acticities
ATTACH;FMTTYPE=image/jpeg:https://grangetownchurch.org/wp-content/uploads/2025/02/Add-a-subheading-34.jpg
END:VEVENT
BEGIN:VEVENT
DTSTART;TZID=Europe/London:20261021T110000
DTEND;TZID=Europe/London:20261021T130000
DTSTAMP:20260424T035435
CREATED:20250212T225022Z
LAST-MODIFIED:20251014T183228Z
UID:10001420-1792580400-1792587600@grangetownchurch.org
SUMMARY:Cornestone Sewing Club
DESCRIPTION:If you would like to do some sewing and quilting\, have a cuppa and chat why not come along and join us every Wednesday during term time. From enthusiastic beginners to experienced quilters everyone is welcome. \n\n\n\nLimited spaces so contact Sheila for availability.
URL:https://grangetownchurch.org/event/cornestone-sewing-club/2026-10-21/
CATEGORIES:Acticities
ATTACH;FMTTYPE=image/jpeg:https://grangetownchurch.org/wp-content/uploads/2025/02/Add-a-subheading-34.jpg
END:VEVENT
BEGIN:VEVENT
DTSTART;TZID=Europe/London:20261028T110000
DTEND;TZID=Europe/London:20261028T130000
DTSTAMP:20260424T035435
CREATED:20250212T225022Z
LAST-MODIFIED:20251014T183228Z
UID:10001421-1793185200-1793192400@grangetownchurch.org
SUMMARY:Cornestone Sewing Club
DESCRIPTION:If you would like to do some sewing and quilting\, have a cuppa and chat why not come along and join us every Wednesday during term time. From enthusiastic beginners to experienced quilters everyone is welcome. \n\n\n\nLimited spaces so contact Sheila for availability.
URL:https://grangetownchurch.org/event/cornestone-sewing-club/2026-10-28/
CATEGORIES:Acticities
ATTACH;FMTTYPE=image/jpeg:https://grangetownchurch.org/wp-content/uploads/2025/02/Add-a-subheading-34.jpg
END:VEVENT
BEGIN:VEVENT
DTSTART;TZID=Europe/London:20261104T110000
DTEND;TZID=Europe/London:20261104T130000
DTSTAMP:20260424T035435
CREATED:20250212T225022Z
LAST-MODIFIED:20251014T183228Z
UID:10001422-1793790000-1793797200@grangetownchurch.org
SUMMARY:Cornestone Sewing Club
DESCRIPTION:If you would like to do some sewing and quilting\, have a cuppa and chat why not come along and join us every Wednesday during term time. From enthusiastic beginners to experienced quilters everyone is welcome. \n\n\n\nLimited spaces so contact Sheila for availability.
URL:https://grangetownchurch.org/event/cornestone-sewing-club/2026-11-04/
CATEGORIES:Acticities
ATTACH;FMTTYPE=image/jpeg:https://grangetownchurch.org/wp-content/uploads/2025/02/Add-a-subheading-34.jpg
END:VEVENT
BEGIN:VEVENT
DTSTART;TZID=Europe/London:20261111T110000
DTEND;TZID=Europe/London:20261111T130000
DTSTAMP:20260424T035435
CREATED:20250212T225022Z
LAST-MODIFIED:20251014T183228Z
UID:10001423-1794394800-1794402000@grangetownchurch.org
SUMMARY:Cornestone Sewing Club
DESCRIPTION:If you would like to do some sewing and quilting\, have a cuppa and chat why not come along and join us every Wednesday during term time. From enthusiastic beginners to experienced quilters everyone is welcome. \n\n\n\nLimited spaces so contact Sheila for availability.
URL:https://grangetownchurch.org/event/cornestone-sewing-club/2026-11-11/
CATEGORIES:Acticities
ATTACH;FMTTYPE=image/jpeg:https://grangetownchurch.org/wp-content/uploads/2025/02/Add-a-subheading-34.jpg
END:VEVENT
END:VCALENDAR