BEGIN:VCALENDAR
VERSION:2.0
PRODID:-//Grangetown Baptist Church - ECPv6.15.14//NONSGML v1.0//EN
CALSCALE:GREGORIAN
METHOD:PUBLISH
X-WR-CALNAME:Grangetown Baptist Church
X-ORIGINAL-URL:https://grangetownchurch.org
X-WR-CALDESC:Events for Grangetown Baptist Church
REFRESH-INTERVAL;VALUE=DURATION:PT1H
X-Robots-Tag:noindex
X-PUBLISHED-TTL:PT1H
BEGIN:VTIMEZONE
TZID:Europe/London
BEGIN:DAYLIGHT
TZOFFSETFROM:+0000
TZOFFSETTO:+0100
TZNAME:BST
DTSTART:20250330T010000
END:DAYLIGHT
BEGIN:STANDARD
TZOFFSETFROM:+0100
TZOFFSETTO:+0000
TZNAME:GMT
DTSTART:20251026T010000
END:STANDARD
BEGIN:DAYLIGHT
TZOFFSETFROM:+0000
TZOFFSETTO:+0100
TZNAME:BST
DTSTART:20260329T010000
END:DAYLIGHT
BEGIN:STANDARD
TZOFFSETFROM:+0100
TZOFFSETTO:+0000
TZNAME:GMT
DTSTART:20261025T010000
END:STANDARD
BEGIN:DAYLIGHT
TZOFFSETFROM:+0000
TZOFFSETTO:+0100
TZNAME:BST
DTSTART:20270328T010000
END:DAYLIGHT
BEGIN:STANDARD
TZOFFSETFROM:+0100
TZOFFSETTO:+0000
TZNAME:GMT
DTSTART:20271031T010000
END:STANDARD
END:VTIMEZONE
BEGIN:VEVENT
DTSTART;TZID=Europe/London:20260429T093000
DTEND;TZID=Europe/London:20260429T111500
DTSTAMP:20260424T111632
CREATED:20250603T113808Z
LAST-MODIFIED:20251014T183048Z
UID:10001649-1777455000-1777461300@grangetownchurch.org
SUMMARY:Parent & Toddler
DESCRIPTION:We appreciate that having young children is both wonderful and exhausting at the same time! Come and join us for a morning of fun and friendship for parents and toddlers! It’s free and all are welcome.
URL:https://grangetownchurch.org/event/parent-toddler-2/2026-04-29/
CATEGORIES:Children & Young People
ATTACH;FMTTYPE=image/jpeg:https://grangetownchurch.org/wp-content/uploads/2025/04/WhatsApp-Image-2025-04-16-at-11.10.51.jpeg
END:VEVENT
BEGIN:VEVENT
DTSTART;TZID=Europe/London:20260506T093000
DTEND;TZID=Europe/London:20260506T111500
DTSTAMP:20260424T111632
CREATED:20250603T113808Z
LAST-MODIFIED:20251014T183048Z
UID:10001650-1778059800-1778066100@grangetownchurch.org
SUMMARY:Parent & Toddler
DESCRIPTION:We appreciate that having young children is both wonderful and exhausting at the same time! Come and join us for a morning of fun and friendship for parents and toddlers! It’s free and all are welcome.
URL:https://grangetownchurch.org/event/parent-toddler-2/2026-05-06/
CATEGORIES:Children & Young People
ATTACH;FMTTYPE=image/jpeg:https://grangetownchurch.org/wp-content/uploads/2025/04/WhatsApp-Image-2025-04-16-at-11.10.51.jpeg
END:VEVENT
BEGIN:VEVENT
DTSTART;TZID=Europe/London:20260513T093000
DTEND;TZID=Europe/London:20260513T111500
DTSTAMP:20260424T111632
CREATED:20250603T113808Z
LAST-MODIFIED:20251014T183048Z
UID:10001651-1778664600-1778670900@grangetownchurch.org
SUMMARY:Parent & Toddler
DESCRIPTION:We appreciate that having young children is both wonderful and exhausting at the same time! Come and join us for a morning of fun and friendship for parents and toddlers! It’s free and all are welcome.
URL:https://grangetownchurch.org/event/parent-toddler-2/2026-05-13/
CATEGORIES:Children & Young People
ATTACH;FMTTYPE=image/jpeg:https://grangetownchurch.org/wp-content/uploads/2025/04/WhatsApp-Image-2025-04-16-at-11.10.51.jpeg
END:VEVENT
BEGIN:VEVENT
DTSTART;TZID=Europe/London:20260520T093000
DTEND;TZID=Europe/London:20260520T111500
DTSTAMP:20260424T111632
CREATED:20250603T113808Z
LAST-MODIFIED:20251014T183048Z
UID:10001652-1779269400-1779275700@grangetownchurch.org
SUMMARY:Parent & Toddler
DESCRIPTION:We appreciate that having young children is both wonderful and exhausting at the same time! Come and join us for a morning of fun and friendship for parents and toddlers! It’s free and all are welcome.
URL:https://grangetownchurch.org/event/parent-toddler-2/2026-05-20/
CATEGORIES:Children & Young People
ATTACH;FMTTYPE=image/jpeg:https://grangetownchurch.org/wp-content/uploads/2025/04/WhatsApp-Image-2025-04-16-at-11.10.51.jpeg
END:VEVENT
BEGIN:VEVENT
DTSTART;TZID=Europe/London:20260527T093000
DTEND;TZID=Europe/London:20260527T111500
DTSTAMP:20260424T111632
CREATED:20250603T113808Z
LAST-MODIFIED:20251014T183048Z
UID:10001653-1779874200-1779880500@grangetownchurch.org
SUMMARY:Parent & Toddler
DESCRIPTION:We appreciate that having young children is both wonderful and exhausting at the same time! Come and join us for a morning of fun and friendship for parents and toddlers! It’s free and all are welcome.
URL:https://grangetownchurch.org/event/parent-toddler-2/2026-05-27/
CATEGORIES:Children & Young People
ATTACH;FMTTYPE=image/jpeg:https://grangetownchurch.org/wp-content/uploads/2025/04/WhatsApp-Image-2025-04-16-at-11.10.51.jpeg
END:VEVENT
BEGIN:VEVENT
DTSTART;TZID=Europe/London:20260603T093000
DTEND;TZID=Europe/London:20260603T111500
DTSTAMP:20260424T111632
CREATED:20250603T113808Z
LAST-MODIFIED:20251014T183048Z
UID:10001654-1780479000-1780485300@grangetownchurch.org
SUMMARY:Parent & Toddler
DESCRIPTION:We appreciate that having young children is both wonderful and exhausting at the same time! Come and join us for a morning of fun and friendship for parents and toddlers! It’s free and all are welcome.
URL:https://grangetownchurch.org/event/parent-toddler-2/2026-06-03/
CATEGORIES:Children & Young People
ATTACH;FMTTYPE=image/jpeg:https://grangetownchurch.org/wp-content/uploads/2025/04/WhatsApp-Image-2025-04-16-at-11.10.51.jpeg
END:VEVENT
BEGIN:VEVENT
DTSTART;TZID=Europe/London:20260610T093000
DTEND;TZID=Europe/London:20260610T111500
DTSTAMP:20260424T111632
CREATED:20250603T113808Z
LAST-MODIFIED:20251014T183048Z
UID:10001655-1781083800-1781090100@grangetownchurch.org
SUMMARY:Parent & Toddler
DESCRIPTION:We appreciate that having young children is both wonderful and exhausting at the same time! Come and join us for a morning of fun and friendship for parents and toddlers! It’s free and all are welcome.
URL:https://grangetownchurch.org/event/parent-toddler-2/2026-06-10/
CATEGORIES:Children & Young People
ATTACH;FMTTYPE=image/jpeg:https://grangetownchurch.org/wp-content/uploads/2025/04/WhatsApp-Image-2025-04-16-at-11.10.51.jpeg
END:VEVENT
BEGIN:VEVENT
DTSTART;TZID=Europe/London:20260617T093000
DTEND;TZID=Europe/London:20260617T111500
DTSTAMP:20260424T111632
CREATED:20250603T113808Z
LAST-MODIFIED:20251014T183048Z
UID:10001656-1781688600-1781694900@grangetownchurch.org
SUMMARY:Parent & Toddler
DESCRIPTION:We appreciate that having young children is both wonderful and exhausting at the same time! Come and join us for a morning of fun and friendship for parents and toddlers! It’s free and all are welcome.
URL:https://grangetownchurch.org/event/parent-toddler-2/2026-06-17/
CATEGORIES:Children & Young People
ATTACH;FMTTYPE=image/jpeg:https://grangetownchurch.org/wp-content/uploads/2025/04/WhatsApp-Image-2025-04-16-at-11.10.51.jpeg
END:VEVENT
BEGIN:VEVENT
DTSTART;TZID=Europe/London:20260624T093000
DTEND;TZID=Europe/London:20260624T111500
DTSTAMP:20260424T111632
CREATED:20250603T113808Z
LAST-MODIFIED:20251014T183048Z
UID:10001657-1782293400-1782299700@grangetownchurch.org
SUMMARY:Parent & Toddler
DESCRIPTION:We appreciate that having young children is both wonderful and exhausting at the same time! Come and join us for a morning of fun and friendship for parents and toddlers! It’s free and all are welcome.
URL:https://grangetownchurch.org/event/parent-toddler-2/2026-06-24/
CATEGORIES:Children & Young People
ATTACH;FMTTYPE=image/jpeg:https://grangetownchurch.org/wp-content/uploads/2025/04/WhatsApp-Image-2025-04-16-at-11.10.51.jpeg
END:VEVENT
BEGIN:VEVENT
DTSTART;TZID=Europe/London:20260701T093000
DTEND;TZID=Europe/London:20260701T111500
DTSTAMP:20260424T111632
CREATED:20250603T113808Z
LAST-MODIFIED:20251014T183048Z
UID:10001658-1782898200-1782904500@grangetownchurch.org
SUMMARY:Parent & Toddler
DESCRIPTION:We appreciate that having young children is both wonderful and exhausting at the same time! Come and join us for a morning of fun and friendship for parents and toddlers! It’s free and all are welcome.
URL:https://grangetownchurch.org/event/parent-toddler-2/2026-07-01/
CATEGORIES:Children & Young People
ATTACH;FMTTYPE=image/jpeg:https://grangetownchurch.org/wp-content/uploads/2025/04/WhatsApp-Image-2025-04-16-at-11.10.51.jpeg
END:VEVENT
BEGIN:VEVENT
DTSTART;TZID=Europe/London:20260708T093000
DTEND;TZID=Europe/London:20260708T111500
DTSTAMP:20260424T111632
CREATED:20250603T113808Z
LAST-MODIFIED:20251014T183048Z
UID:10001659-1783503000-1783509300@grangetownchurch.org
SUMMARY:Parent & Toddler
DESCRIPTION:We appreciate that having young children is both wonderful and exhausting at the same time! Come and join us for a morning of fun and friendship for parents and toddlers! It’s free and all are welcome.
URL:https://grangetownchurch.org/event/parent-toddler-2/2026-07-08/
CATEGORIES:Children & Young People
ATTACH;FMTTYPE=image/jpeg:https://grangetownchurch.org/wp-content/uploads/2025/04/WhatsApp-Image-2025-04-16-at-11.10.51.jpeg
END:VEVENT
BEGIN:VEVENT
DTSTART;TZID=Europe/London:20260715T093000
DTEND;TZID=Europe/London:20260715T111500
DTSTAMP:20260424T111632
CREATED:20250603T113808Z
LAST-MODIFIED:20251014T183048Z
UID:10001660-1784107800-1784114100@grangetownchurch.org
SUMMARY:Parent & Toddler
DESCRIPTION:We appreciate that having young children is both wonderful and exhausting at the same time! Come and join us for a morning of fun and friendship for parents and toddlers! It’s free and all are welcome.
URL:https://grangetownchurch.org/event/parent-toddler-2/2026-07-15/
CATEGORIES:Children & Young People
ATTACH;FMTTYPE=image/jpeg:https://grangetownchurch.org/wp-content/uploads/2025/04/WhatsApp-Image-2025-04-16-at-11.10.51.jpeg
END:VEVENT
BEGIN:VEVENT
DTSTART;TZID=Europe/London:20260722T093000
DTEND;TZID=Europe/London:20260722T111500
DTSTAMP:20260424T111632
CREATED:20250603T113808Z
LAST-MODIFIED:20251014T183048Z
UID:10001661-1784712600-1784718900@grangetownchurch.org
SUMMARY:Parent & Toddler
DESCRIPTION:We appreciate that having young children is both wonderful and exhausting at the same time! Come and join us for a morning of fun and friendship for parents and toddlers! It’s free and all are welcome.
URL:https://grangetownchurch.org/event/parent-toddler-2/2026-07-22/
CATEGORIES:Children & Young People
ATTACH;FMTTYPE=image/jpeg:https://grangetownchurch.org/wp-content/uploads/2025/04/WhatsApp-Image-2025-04-16-at-11.10.51.jpeg
END:VEVENT
BEGIN:VEVENT
DTSTART;TZID=Europe/London:20260729T093000
DTEND;TZID=Europe/London:20260729T111500
DTSTAMP:20260424T111632
CREATED:20250603T113808Z
LAST-MODIFIED:20251014T183048Z
UID:10001662-1785317400-1785323700@grangetownchurch.org
SUMMARY:Parent & Toddler
DESCRIPTION:We appreciate that having young children is both wonderful and exhausting at the same time! Come and join us for a morning of fun and friendship for parents and toddlers! It’s free and all are welcome.
URL:https://grangetownchurch.org/event/parent-toddler-2/2026-07-29/
CATEGORIES:Children & Young People
ATTACH;FMTTYPE=image/jpeg:https://grangetownchurch.org/wp-content/uploads/2025/04/WhatsApp-Image-2025-04-16-at-11.10.51.jpeg
END:VEVENT
BEGIN:VEVENT
DTSTART;TZID=Europe/London:20260805T093000
DTEND;TZID=Europe/London:20260805T111500
DTSTAMP:20260424T111632
CREATED:20250603T113808Z
LAST-MODIFIED:20251014T183048Z
UID:10001663-1785922200-1785928500@grangetownchurch.org
SUMMARY:Parent & Toddler
DESCRIPTION:We appreciate that having young children is both wonderful and exhausting at the same time! Come and join us for a morning of fun and friendship for parents and toddlers! It’s free and all are welcome.
URL:https://grangetownchurch.org/event/parent-toddler-2/2026-08-05/
CATEGORIES:Children & Young People
ATTACH;FMTTYPE=image/jpeg:https://grangetownchurch.org/wp-content/uploads/2025/04/WhatsApp-Image-2025-04-16-at-11.10.51.jpeg
END:VEVENT
BEGIN:VEVENT
DTSTART;TZID=Europe/London:20260812T093000
DTEND;TZID=Europe/London:20260812T111500
DTSTAMP:20260424T111632
CREATED:20250603T113808Z
LAST-MODIFIED:20251014T183048Z
UID:10001664-1786527000-1786533300@grangetownchurch.org
SUMMARY:Parent & Toddler
DESCRIPTION:We appreciate that having young children is both wonderful and exhausting at the same time! Come and join us for a morning of fun and friendship for parents and toddlers! It’s free and all are welcome.
URL:https://grangetownchurch.org/event/parent-toddler-2/2026-08-12/
CATEGORIES:Children & Young People
ATTACH;FMTTYPE=image/jpeg:https://grangetownchurch.org/wp-content/uploads/2025/04/WhatsApp-Image-2025-04-16-at-11.10.51.jpeg
END:VEVENT
BEGIN:VEVENT
DTSTART;TZID=Europe/London:20260819T093000
DTEND;TZID=Europe/London:20260819T111500
DTSTAMP:20260424T111632
CREATED:20250603T113808Z
LAST-MODIFIED:20251014T183048Z
UID:10001665-1787131800-1787138100@grangetownchurch.org
SUMMARY:Parent & Toddler
DESCRIPTION:We appreciate that having young children is both wonderful and exhausting at the same time! Come and join us for a morning of fun and friendship for parents and toddlers! It’s free and all are welcome.
URL:https://grangetownchurch.org/event/parent-toddler-2/2026-08-19/
CATEGORIES:Children & Young People
ATTACH;FMTTYPE=image/jpeg:https://grangetownchurch.org/wp-content/uploads/2025/04/WhatsApp-Image-2025-04-16-at-11.10.51.jpeg
END:VEVENT
BEGIN:VEVENT
DTSTART;TZID=Europe/London:20260826T093000
DTEND;TZID=Europe/London:20260826T111500
DTSTAMP:20260424T111632
CREATED:20250603T113808Z
LAST-MODIFIED:20251014T183048Z
UID:10001666-1787736600-1787742900@grangetownchurch.org
SUMMARY:Parent & Toddler
DESCRIPTION:We appreciate that having young children is both wonderful and exhausting at the same time! Come and join us for a morning of fun and friendship for parents and toddlers! It’s free and all are welcome.
URL:https://grangetownchurch.org/event/parent-toddler-2/2026-08-26/
CATEGORIES:Children & Young People
ATTACH;FMTTYPE=image/jpeg:https://grangetownchurch.org/wp-content/uploads/2025/04/WhatsApp-Image-2025-04-16-at-11.10.51.jpeg
END:VEVENT
BEGIN:VEVENT
DTSTART;TZID=Europe/London:20260902T093000
DTEND;TZID=Europe/London:20260902T111500
DTSTAMP:20260424T111632
CREATED:20250603T113808Z
LAST-MODIFIED:20251014T183048Z
UID:10001667-1788341400-1788347700@grangetownchurch.org
SUMMARY:Parent & Toddler
DESCRIPTION:We appreciate that having young children is both wonderful and exhausting at the same time! Come and join us for a morning of fun and friendship for parents and toddlers! It’s free and all are welcome.
URL:https://grangetownchurch.org/event/parent-toddler-2/2026-09-02/
CATEGORIES:Children & Young People
ATTACH;FMTTYPE=image/jpeg:https://grangetownchurch.org/wp-content/uploads/2025/04/WhatsApp-Image-2025-04-16-at-11.10.51.jpeg
END:VEVENT
BEGIN:VEVENT
DTSTART;TZID=Europe/London:20260909T093000
DTEND;TZID=Europe/London:20260909T111500
DTSTAMP:20260424T111632
CREATED:20250603T113808Z
LAST-MODIFIED:20251014T183048Z
UID:10001668-1788946200-1788952500@grangetownchurch.org
SUMMARY:Parent & Toddler
DESCRIPTION:We appreciate that having young children is both wonderful and exhausting at the same time! Come and join us for a morning of fun and friendship for parents and toddlers! It’s free and all are welcome.
URL:https://grangetownchurch.org/event/parent-toddler-2/2026-09-09/
CATEGORIES:Children & Young People
ATTACH;FMTTYPE=image/jpeg:https://grangetownchurch.org/wp-content/uploads/2025/04/WhatsApp-Image-2025-04-16-at-11.10.51.jpeg
END:VEVENT
BEGIN:VEVENT
DTSTART;TZID=Europe/London:20260916T093000
DTEND;TZID=Europe/London:20260916T111500
DTSTAMP:20260424T111632
CREATED:20250603T113808Z
LAST-MODIFIED:20251014T183048Z
UID:10001669-1789551000-1789557300@grangetownchurch.org
SUMMARY:Parent & Toddler
DESCRIPTION:We appreciate that having young children is both wonderful and exhausting at the same time! Come and join us for a morning of fun and friendship for parents and toddlers! It’s free and all are welcome.
URL:https://grangetownchurch.org/event/parent-toddler-2/2026-09-16/
CATEGORIES:Children & Young People
ATTACH;FMTTYPE=image/jpeg:https://grangetownchurch.org/wp-content/uploads/2025/04/WhatsApp-Image-2025-04-16-at-11.10.51.jpeg
END:VEVENT
BEGIN:VEVENT
DTSTART;TZID=Europe/London:20260923T093000
DTEND;TZID=Europe/London:20260923T111500
DTSTAMP:20260424T111632
CREATED:20250603T113808Z
LAST-MODIFIED:20251014T183048Z
UID:10001670-1790155800-1790162100@grangetownchurch.org
SUMMARY:Parent & Toddler
DESCRIPTION:We appreciate that having young children is both wonderful and exhausting at the same time! Come and join us for a morning of fun and friendship for parents and toddlers! It’s free and all are welcome.
URL:https://grangetownchurch.org/event/parent-toddler-2/2026-09-23/
CATEGORIES:Children & Young People
ATTACH;FMTTYPE=image/jpeg:https://grangetownchurch.org/wp-content/uploads/2025/04/WhatsApp-Image-2025-04-16-at-11.10.51.jpeg
END:VEVENT
BEGIN:VEVENT
DTSTART;TZID=Europe/London:20260930T093000
DTEND;TZID=Europe/London:20260930T111500
DTSTAMP:20260424T111632
CREATED:20250603T113808Z
LAST-MODIFIED:20251014T183048Z
UID:10001671-1790760600-1790766900@grangetownchurch.org
SUMMARY:Parent & Toddler
DESCRIPTION:We appreciate that having young children is both wonderful and exhausting at the same time! Come and join us for a morning of fun and friendship for parents and toddlers! It’s free and all are welcome.
URL:https://grangetownchurch.org/event/parent-toddler-2/2026-09-30/
CATEGORIES:Children & Young People
ATTACH;FMTTYPE=image/jpeg:https://grangetownchurch.org/wp-content/uploads/2025/04/WhatsApp-Image-2025-04-16-at-11.10.51.jpeg
END:VEVENT
BEGIN:VEVENT
DTSTART;TZID=Europe/London:20261007T093000
DTEND;TZID=Europe/London:20261007T111500
DTSTAMP:20260424T111632
CREATED:20250603T113808Z
LAST-MODIFIED:20251014T183048Z
UID:10001672-1791365400-1791371700@grangetownchurch.org
SUMMARY:Parent & Toddler
DESCRIPTION:We appreciate that having young children is both wonderful and exhausting at the same time! Come and join us for a morning of fun and friendship for parents and toddlers! It’s free and all are welcome.
URL:https://grangetownchurch.org/event/parent-toddler-2/2026-10-07/
CATEGORIES:Children & Young People
ATTACH;FMTTYPE=image/jpeg:https://grangetownchurch.org/wp-content/uploads/2025/04/WhatsApp-Image-2025-04-16-at-11.10.51.jpeg
END:VEVENT
BEGIN:VEVENT
DTSTART;TZID=Europe/London:20261014T093000
DTEND;TZID=Europe/London:20261014T111500
DTSTAMP:20260424T111632
CREATED:20250603T113808Z
LAST-MODIFIED:20251014T183048Z
UID:10001673-1791970200-1791976500@grangetownchurch.org
SUMMARY:Parent & Toddler
DESCRIPTION:We appreciate that having young children is both wonderful and exhausting at the same time! Come and join us for a morning of fun and friendship for parents and toddlers! It’s free and all are welcome.
URL:https://grangetownchurch.org/event/parent-toddler-2/2026-10-14/
CATEGORIES:Children & Young People
ATTACH;FMTTYPE=image/jpeg:https://grangetownchurch.org/wp-content/uploads/2025/04/WhatsApp-Image-2025-04-16-at-11.10.51.jpeg
END:VEVENT
BEGIN:VEVENT
DTSTART;TZID=Europe/London:20261021T093000
DTEND;TZID=Europe/London:20261021T111500
DTSTAMP:20260424T111632
CREATED:20250603T113808Z
LAST-MODIFIED:20251014T183048Z
UID:10001674-1792575000-1792581300@grangetownchurch.org
SUMMARY:Parent & Toddler
DESCRIPTION:We appreciate that having young children is both wonderful and exhausting at the same time! Come and join us for a morning of fun and friendship for parents and toddlers! It’s free and all are welcome.
URL:https://grangetownchurch.org/event/parent-toddler-2/2026-10-21/
CATEGORIES:Children & Young People
ATTACH;FMTTYPE=image/jpeg:https://grangetownchurch.org/wp-content/uploads/2025/04/WhatsApp-Image-2025-04-16-at-11.10.51.jpeg
END:VEVENT
BEGIN:VEVENT
DTSTART;TZID=Europe/London:20261028T093000
DTEND;TZID=Europe/London:20261028T111500
DTSTAMP:20260424T111632
CREATED:20250603T113808Z
LAST-MODIFIED:20251014T183048Z
UID:10001675-1793179800-1793186100@grangetownchurch.org
SUMMARY:Parent & Toddler
DESCRIPTION:We appreciate that having young children is both wonderful and exhausting at the same time! Come and join us for a morning of fun and friendship for parents and toddlers! It’s free and all are welcome.
URL:https://grangetownchurch.org/event/parent-toddler-2/2026-10-28/
CATEGORIES:Children & Young People
ATTACH;FMTTYPE=image/jpeg:https://grangetownchurch.org/wp-content/uploads/2025/04/WhatsApp-Image-2025-04-16-at-11.10.51.jpeg
END:VEVENT
BEGIN:VEVENT
DTSTART;TZID=Europe/London:20261104T093000
DTEND;TZID=Europe/London:20261104T111500
DTSTAMP:20260424T111632
CREATED:20250603T113808Z
LAST-MODIFIED:20251014T183048Z
UID:10001676-1793784600-1793790900@grangetownchurch.org
SUMMARY:Parent & Toddler
DESCRIPTION:We appreciate that having young children is both wonderful and exhausting at the same time! Come and join us for a morning of fun and friendship for parents and toddlers! It’s free and all are welcome.
URL:https://grangetownchurch.org/event/parent-toddler-2/2026-11-04/
CATEGORIES:Children & Young People
ATTACH;FMTTYPE=image/jpeg:https://grangetownchurch.org/wp-content/uploads/2025/04/WhatsApp-Image-2025-04-16-at-11.10.51.jpeg
END:VEVENT
BEGIN:VEVENT
DTSTART;TZID=Europe/London:20261111T093000
DTEND;TZID=Europe/London:20261111T111500
DTSTAMP:20260424T111632
CREATED:20250603T113808Z
LAST-MODIFIED:20251014T183048Z
UID:10001677-1794389400-1794395700@grangetownchurch.org
SUMMARY:Parent & Toddler
DESCRIPTION:We appreciate that having young children is both wonderful and exhausting at the same time! Come and join us for a morning of fun and friendship for parents and toddlers! It’s free and all are welcome.
URL:https://grangetownchurch.org/event/parent-toddler-2/2026-11-11/
CATEGORIES:Children & Young People
ATTACH;FMTTYPE=image/jpeg:https://grangetownchurch.org/wp-content/uploads/2025/04/WhatsApp-Image-2025-04-16-at-11.10.51.jpeg
END:VEVENT
BEGIN:VEVENT
DTSTART;TZID=Europe/London:20261118T093000
DTEND;TZID=Europe/London:20261118T111500
DTSTAMP:20260424T111632
CREATED:20250603T113808Z
LAST-MODIFIED:20251014T183048Z
UID:10001678-1794994200-1795000500@grangetownchurch.org
SUMMARY:Parent & Toddler
DESCRIPTION:We appreciate that having young children is both wonderful and exhausting at the same time! Come and join us for a morning of fun and friendship for parents and toddlers! It’s free and all are welcome.
URL:https://grangetownchurch.org/event/parent-toddler-2/2026-11-18/
CATEGORIES:Children & Young People
ATTACH;FMTTYPE=image/jpeg:https://grangetownchurch.org/wp-content/uploads/2025/04/WhatsApp-Image-2025-04-16-at-11.10.51.jpeg
END:VEVENT
END:VCALENDAR