BEGIN:VCALENDAR
VERSION:2.0
PRODID:-//Grangetown Baptist Church - ECPv6.15.14//NONSGML v1.0//EN
CALSCALE:GREGORIAN
METHOD:PUBLISH
X-WR-CALNAME:Grangetown Baptist Church
X-ORIGINAL-URL:https://grangetownchurch.org
X-WR-CALDESC:Events for Grangetown Baptist Church
REFRESH-INTERVAL;VALUE=DURATION:PT1H
X-Robots-Tag:noindex
X-PUBLISHED-TTL:PT1H
BEGIN:VTIMEZONE
TZID:Europe/London
BEGIN:DAYLIGHT
TZOFFSETFROM:+0000
TZOFFSETTO:+0100
TZNAME:BST
DTSTART:20250330T010000
END:DAYLIGHT
BEGIN:STANDARD
TZOFFSETFROM:+0100
TZOFFSETTO:+0000
TZNAME:GMT
DTSTART:20251026T010000
END:STANDARD
BEGIN:DAYLIGHT
TZOFFSETFROM:+0000
TZOFFSETTO:+0100
TZNAME:BST
DTSTART:20260329T010000
END:DAYLIGHT
BEGIN:STANDARD
TZOFFSETFROM:+0100
TZOFFSETTO:+0000
TZNAME:GMT
DTSTART:20261025T010000
END:STANDARD
BEGIN:DAYLIGHT
TZOFFSETFROM:+0000
TZOFFSETTO:+0100
TZNAME:BST
DTSTART:20270328T010000
END:DAYLIGHT
BEGIN:STANDARD
TZOFFSETFROM:+0100
TZOFFSETTO:+0000
TZNAME:GMT
DTSTART:20271031T010000
END:STANDARD
END:VTIMEZONE
BEGIN:VEVENT
DTSTART;TZID=Europe/London:20260428T150000
DTEND;TZID=Europe/London:20260428T180000
DTSTAMP:20260424T035609
CREATED:20250519T073509Z
LAST-MODIFIED:20260205T203453Z
UID:10007915-1777388400-1777399200@grangetownchurch.org
SUMMARY:TownYouth
DESCRIPTION:Every Tuesdays during school terms\, from whenever school ends until 6pm. \n\n\n\nGames\, life-skills\, Bible teaching & an evening meal for children of secondary school age.
URL:https://grangetownchurch.org/event/townyouth-3/2026-04-28/
ATTACH;FMTTYPE=image/png:https://grangetownchurch.org/wp-content/uploads/2025/02/Add-a-subheading-14.png
END:VEVENT
BEGIN:VEVENT
DTSTART;TZID=Europe/London:20260505T150000
DTEND;TZID=Europe/London:20260505T180000
DTSTAMP:20260424T035609
CREATED:20250519T073509Z
LAST-MODIFIED:20260205T203453Z
UID:10007916-1777993200-1778004000@grangetownchurch.org
SUMMARY:TownYouth
DESCRIPTION:Every Tuesdays during school terms\, from whenever school ends until 6pm. \n\n\n\nGames\, life-skills\, Bible teaching & an evening meal for children of secondary school age.
URL:https://grangetownchurch.org/event/townyouth-3/2026-05-05/
ATTACH;FMTTYPE=image/png:https://grangetownchurch.org/wp-content/uploads/2025/02/Add-a-subheading-14.png
END:VEVENT
BEGIN:VEVENT
DTSTART;TZID=Europe/London:20260512T150000
DTEND;TZID=Europe/London:20260512T180000
DTSTAMP:20260424T035609
CREATED:20250519T073509Z
LAST-MODIFIED:20260205T203453Z
UID:10007917-1778598000-1778608800@grangetownchurch.org
SUMMARY:TownYouth
DESCRIPTION:Every Tuesdays during school terms\, from whenever school ends until 6pm. \n\n\n\nGames\, life-skills\, Bible teaching & an evening meal for children of secondary school age.
URL:https://grangetownchurch.org/event/townyouth-3/2026-05-12/
ATTACH;FMTTYPE=image/png:https://grangetownchurch.org/wp-content/uploads/2025/02/Add-a-subheading-14.png
END:VEVENT
BEGIN:VEVENT
DTSTART;TZID=Europe/London:20260519T150000
DTEND;TZID=Europe/London:20260519T180000
DTSTAMP:20260424T035609
CREATED:20250519T073509Z
LAST-MODIFIED:20260205T203453Z
UID:10007918-1779202800-1779213600@grangetownchurch.org
SUMMARY:TownYouth
DESCRIPTION:Every Tuesdays during school terms\, from whenever school ends until 6pm. \n\n\n\nGames\, life-skills\, Bible teaching & an evening meal for children of secondary school age.
URL:https://grangetownchurch.org/event/townyouth-3/2026-05-19/
ATTACH;FMTTYPE=image/png:https://grangetownchurch.org/wp-content/uploads/2025/02/Add-a-subheading-14.png
END:VEVENT
BEGIN:VEVENT
DTSTART;TZID=Europe/London:20260526T150000
DTEND;TZID=Europe/London:20260526T180000
DTSTAMP:20260424T035609
CREATED:20250519T073509Z
LAST-MODIFIED:20260205T203453Z
UID:10007919-1779807600-1779818400@grangetownchurch.org
SUMMARY:TownYouth
DESCRIPTION:Every Tuesdays during school terms\, from whenever school ends until 6pm. \n\n\n\nGames\, life-skills\, Bible teaching & an evening meal for children of secondary school age.
URL:https://grangetownchurch.org/event/townyouth-3/2026-05-26/
ATTACH;FMTTYPE=image/png:https://grangetownchurch.org/wp-content/uploads/2025/02/Add-a-subheading-14.png
END:VEVENT
BEGIN:VEVENT
DTSTART;TZID=Europe/London:20260602T150000
DTEND;TZID=Europe/London:20260602T180000
DTSTAMP:20260424T035609
CREATED:20250519T073509Z
LAST-MODIFIED:20260205T203453Z
UID:10007920-1780412400-1780423200@grangetownchurch.org
SUMMARY:TownYouth
DESCRIPTION:Every Tuesdays during school terms\, from whenever school ends until 6pm. \n\n\n\nGames\, life-skills\, Bible teaching & an evening meal for children of secondary school age.
URL:https://grangetownchurch.org/event/townyouth-3/2026-06-02/
ATTACH;FMTTYPE=image/png:https://grangetownchurch.org/wp-content/uploads/2025/02/Add-a-subheading-14.png
END:VEVENT
BEGIN:VEVENT
DTSTART;TZID=Europe/London:20260609T150000
DTEND;TZID=Europe/London:20260609T180000
DTSTAMP:20260424T035609
CREATED:20250519T073509Z
LAST-MODIFIED:20260205T203453Z
UID:10007921-1781017200-1781028000@grangetownchurch.org
SUMMARY:TownYouth
DESCRIPTION:Every Tuesdays during school terms\, from whenever school ends until 6pm. \n\n\n\nGames\, life-skills\, Bible teaching & an evening meal for children of secondary school age.
URL:https://grangetownchurch.org/event/townyouth-3/2026-06-09/
ATTACH;FMTTYPE=image/png:https://grangetownchurch.org/wp-content/uploads/2025/02/Add-a-subheading-14.png
END:VEVENT
BEGIN:VEVENT
DTSTART;TZID=Europe/London:20260616T150000
DTEND;TZID=Europe/London:20260616T180000
DTSTAMP:20260424T035609
CREATED:20250519T073509Z
LAST-MODIFIED:20260205T203453Z
UID:10007922-1781622000-1781632800@grangetownchurch.org
SUMMARY:TownYouth
DESCRIPTION:Every Tuesdays during school terms\, from whenever school ends until 6pm. \n\n\n\nGames\, life-skills\, Bible teaching & an evening meal for children of secondary school age.
URL:https://grangetownchurch.org/event/townyouth-3/2026-06-16/
ATTACH;FMTTYPE=image/png:https://grangetownchurch.org/wp-content/uploads/2025/02/Add-a-subheading-14.png
END:VEVENT
BEGIN:VEVENT
DTSTART;TZID=Europe/London:20260623T150000
DTEND;TZID=Europe/London:20260623T180000
DTSTAMP:20260424T035609
CREATED:20250519T073509Z
LAST-MODIFIED:20260205T203453Z
UID:10007923-1782226800-1782237600@grangetownchurch.org
SUMMARY:TownYouth
DESCRIPTION:Every Tuesdays during school terms\, from whenever school ends until 6pm. \n\n\n\nGames\, life-skills\, Bible teaching & an evening meal for children of secondary school age.
URL:https://grangetownchurch.org/event/townyouth-3/2026-06-23/
ATTACH;FMTTYPE=image/png:https://grangetownchurch.org/wp-content/uploads/2025/02/Add-a-subheading-14.png
END:VEVENT
BEGIN:VEVENT
DTSTART;TZID=Europe/London:20260630T150000
DTEND;TZID=Europe/London:20260630T180000
DTSTAMP:20260424T035609
CREATED:20250519T073509Z
LAST-MODIFIED:20260205T203453Z
UID:10007924-1782831600-1782842400@grangetownchurch.org
SUMMARY:TownYouth
DESCRIPTION:Every Tuesdays during school terms\, from whenever school ends until 6pm. \n\n\n\nGames\, life-skills\, Bible teaching & an evening meal for children of secondary school age.
URL:https://grangetownchurch.org/event/townyouth-3/2026-06-30/
ATTACH;FMTTYPE=image/png:https://grangetownchurch.org/wp-content/uploads/2025/02/Add-a-subheading-14.png
END:VEVENT
BEGIN:VEVENT
DTSTART;TZID=Europe/London:20260707T150000
DTEND;TZID=Europe/London:20260707T180000
DTSTAMP:20260424T035609
CREATED:20250519T073509Z
LAST-MODIFIED:20260205T203453Z
UID:10007925-1783436400-1783447200@grangetownchurch.org
SUMMARY:TownYouth
DESCRIPTION:Every Tuesdays during school terms\, from whenever school ends until 6pm. \n\n\n\nGames\, life-skills\, Bible teaching & an evening meal for children of secondary school age.
URL:https://grangetownchurch.org/event/townyouth-3/2026-07-07/
ATTACH;FMTTYPE=image/png:https://grangetownchurch.org/wp-content/uploads/2025/02/Add-a-subheading-14.png
END:VEVENT
BEGIN:VEVENT
DTSTART;TZID=Europe/London:20260714T150000
DTEND;TZID=Europe/London:20260714T180000
DTSTAMP:20260424T035609
CREATED:20250519T073509Z
LAST-MODIFIED:20260205T203453Z
UID:10007926-1784041200-1784052000@grangetownchurch.org
SUMMARY:TownYouth
DESCRIPTION:Every Tuesdays during school terms\, from whenever school ends until 6pm. \n\n\n\nGames\, life-skills\, Bible teaching & an evening meal for children of secondary school age.
URL:https://grangetownchurch.org/event/townyouth-3/2026-07-14/
ATTACH;FMTTYPE=image/png:https://grangetownchurch.org/wp-content/uploads/2025/02/Add-a-subheading-14.png
END:VEVENT
BEGIN:VEVENT
DTSTART;TZID=Europe/London:20260721T150000
DTEND;TZID=Europe/London:20260721T180000
DTSTAMP:20260424T035609
CREATED:20250519T073509Z
LAST-MODIFIED:20260205T203453Z
UID:10007927-1784646000-1784656800@grangetownchurch.org
SUMMARY:TownYouth
DESCRIPTION:Every Tuesdays during school terms\, from whenever school ends until 6pm. \n\n\n\nGames\, life-skills\, Bible teaching & an evening meal for children of secondary school age.
URL:https://grangetownchurch.org/event/townyouth-3/2026-07-21/
ATTACH;FMTTYPE=image/png:https://grangetownchurch.org/wp-content/uploads/2025/02/Add-a-subheading-14.png
END:VEVENT
BEGIN:VEVENT
DTSTART;TZID=Europe/London:20260728T150000
DTEND;TZID=Europe/London:20260728T180000
DTSTAMP:20260424T035609
CREATED:20250519T073509Z
LAST-MODIFIED:20260205T203453Z
UID:10007928-1785250800-1785261600@grangetownchurch.org
SUMMARY:TownYouth
DESCRIPTION:Every Tuesdays during school terms\, from whenever school ends until 6pm. \n\n\n\nGames\, life-skills\, Bible teaching & an evening meal for children of secondary school age.
URL:https://grangetownchurch.org/event/townyouth-3/2026-07-28/
ATTACH;FMTTYPE=image/png:https://grangetownchurch.org/wp-content/uploads/2025/02/Add-a-subheading-14.png
END:VEVENT
BEGIN:VEVENT
DTSTART;TZID=Europe/London:20260804T150000
DTEND;TZID=Europe/London:20260804T180000
DTSTAMP:20260424T035609
CREATED:20250519T073509Z
LAST-MODIFIED:20260205T203453Z
UID:10007929-1785855600-1785866400@grangetownchurch.org
SUMMARY:TownYouth
DESCRIPTION:Every Tuesdays during school terms\, from whenever school ends until 6pm. \n\n\n\nGames\, life-skills\, Bible teaching & an evening meal for children of secondary school age.
URL:https://grangetownchurch.org/event/townyouth-3/2026-08-04/
ATTACH;FMTTYPE=image/png:https://grangetownchurch.org/wp-content/uploads/2025/02/Add-a-subheading-14.png
END:VEVENT
BEGIN:VEVENT
DTSTART;TZID=Europe/London:20260811T150000
DTEND;TZID=Europe/London:20260811T180000
DTSTAMP:20260424T035609
CREATED:20250519T073509Z
LAST-MODIFIED:20260205T203453Z
UID:10007930-1786460400-1786471200@grangetownchurch.org
SUMMARY:TownYouth
DESCRIPTION:Every Tuesdays during school terms\, from whenever school ends until 6pm. \n\n\n\nGames\, life-skills\, Bible teaching & an evening meal for children of secondary school age.
URL:https://grangetownchurch.org/event/townyouth-3/2026-08-11/
ATTACH;FMTTYPE=image/png:https://grangetownchurch.org/wp-content/uploads/2025/02/Add-a-subheading-14.png
END:VEVENT
BEGIN:VEVENT
DTSTART;TZID=Europe/London:20260818T150000
DTEND;TZID=Europe/London:20260818T180000
DTSTAMP:20260424T035609
CREATED:20250519T073509Z
LAST-MODIFIED:20260205T203453Z
UID:10007931-1787065200-1787076000@grangetownchurch.org
SUMMARY:TownYouth
DESCRIPTION:Every Tuesdays during school terms\, from whenever school ends until 6pm. \n\n\n\nGames\, life-skills\, Bible teaching & an evening meal for children of secondary school age.
URL:https://grangetownchurch.org/event/townyouth-3/2026-08-18/
ATTACH;FMTTYPE=image/png:https://grangetownchurch.org/wp-content/uploads/2025/02/Add-a-subheading-14.png
END:VEVENT
BEGIN:VEVENT
DTSTART;TZID=Europe/London:20260825T150000
DTEND;TZID=Europe/London:20260825T180000
DTSTAMP:20260424T035609
CREATED:20250519T073509Z
LAST-MODIFIED:20260205T203453Z
UID:10007932-1787670000-1787680800@grangetownchurch.org
SUMMARY:TownYouth
DESCRIPTION:Every Tuesdays during school terms\, from whenever school ends until 6pm. \n\n\n\nGames\, life-skills\, Bible teaching & an evening meal for children of secondary school age.
URL:https://grangetownchurch.org/event/townyouth-3/2026-08-25/
ATTACH;FMTTYPE=image/png:https://grangetownchurch.org/wp-content/uploads/2025/02/Add-a-subheading-14.png
END:VEVENT
BEGIN:VEVENT
DTSTART;TZID=Europe/London:20260901T150000
DTEND;TZID=Europe/London:20260901T180000
DTSTAMP:20260424T035609
CREATED:20250519T073509Z
LAST-MODIFIED:20260205T203453Z
UID:10007933-1788274800-1788285600@grangetownchurch.org
SUMMARY:TownYouth
DESCRIPTION:Every Tuesdays during school terms\, from whenever school ends until 6pm. \n\n\n\nGames\, life-skills\, Bible teaching & an evening meal for children of secondary school age.
URL:https://grangetownchurch.org/event/townyouth-3/2026-09-01/
ATTACH;FMTTYPE=image/png:https://grangetownchurch.org/wp-content/uploads/2025/02/Add-a-subheading-14.png
END:VEVENT
BEGIN:VEVENT
DTSTART;TZID=Europe/London:20260908T150000
DTEND;TZID=Europe/London:20260908T180000
DTSTAMP:20260424T035609
CREATED:20250519T073509Z
LAST-MODIFIED:20260205T203453Z
UID:10007934-1788879600-1788890400@grangetownchurch.org
SUMMARY:TownYouth
DESCRIPTION:Every Tuesdays during school terms\, from whenever school ends until 6pm. \n\n\n\nGames\, life-skills\, Bible teaching & an evening meal for children of secondary school age.
URL:https://grangetownchurch.org/event/townyouth-3/2026-09-08/
ATTACH;FMTTYPE=image/png:https://grangetownchurch.org/wp-content/uploads/2025/02/Add-a-subheading-14.png
END:VEVENT
BEGIN:VEVENT
DTSTART;TZID=Europe/London:20260915T150000
DTEND;TZID=Europe/London:20260915T180000
DTSTAMP:20260424T035609
CREATED:20250519T073509Z
LAST-MODIFIED:20260205T203453Z
UID:10007935-1789484400-1789495200@grangetownchurch.org
SUMMARY:TownYouth
DESCRIPTION:Every Tuesdays during school terms\, from whenever school ends until 6pm. \n\n\n\nGames\, life-skills\, Bible teaching & an evening meal for children of secondary school age.
URL:https://grangetownchurch.org/event/townyouth-3/2026-09-15/
ATTACH;FMTTYPE=image/png:https://grangetownchurch.org/wp-content/uploads/2025/02/Add-a-subheading-14.png
END:VEVENT
BEGIN:VEVENT
DTSTART;TZID=Europe/London:20260922T150000
DTEND;TZID=Europe/London:20260922T180000
DTSTAMP:20260424T035609
CREATED:20250519T073509Z
LAST-MODIFIED:20260205T203453Z
UID:10007936-1790089200-1790100000@grangetownchurch.org
SUMMARY:TownYouth
DESCRIPTION:Every Tuesdays during school terms\, from whenever school ends until 6pm. \n\n\n\nGames\, life-skills\, Bible teaching & an evening meal for children of secondary school age.
URL:https://grangetownchurch.org/event/townyouth-3/2026-09-22/
ATTACH;FMTTYPE=image/png:https://grangetownchurch.org/wp-content/uploads/2025/02/Add-a-subheading-14.png
END:VEVENT
BEGIN:VEVENT
DTSTART;TZID=Europe/London:20260929T150000
DTEND;TZID=Europe/London:20260929T180000
DTSTAMP:20260424T035609
CREATED:20250519T073509Z
LAST-MODIFIED:20260205T203453Z
UID:10007937-1790694000-1790704800@grangetownchurch.org
SUMMARY:TownYouth
DESCRIPTION:Every Tuesdays during school terms\, from whenever school ends until 6pm. \n\n\n\nGames\, life-skills\, Bible teaching & an evening meal for children of secondary school age.
URL:https://grangetownchurch.org/event/townyouth-3/2026-09-29/
ATTACH;FMTTYPE=image/png:https://grangetownchurch.org/wp-content/uploads/2025/02/Add-a-subheading-14.png
END:VEVENT
BEGIN:VEVENT
DTSTART;TZID=Europe/London:20261006T150000
DTEND;TZID=Europe/London:20261006T180000
DTSTAMP:20260424T035609
CREATED:20250519T073509Z
LAST-MODIFIED:20260205T203453Z
UID:10007938-1791298800-1791309600@grangetownchurch.org
SUMMARY:TownYouth
DESCRIPTION:Every Tuesdays during school terms\, from whenever school ends until 6pm. \n\n\n\nGames\, life-skills\, Bible teaching & an evening meal for children of secondary school age.
URL:https://grangetownchurch.org/event/townyouth-3/2026-10-06/
ATTACH;FMTTYPE=image/png:https://grangetownchurch.org/wp-content/uploads/2025/02/Add-a-subheading-14.png
END:VEVENT
BEGIN:VEVENT
DTSTART;TZID=Europe/London:20261013T150000
DTEND;TZID=Europe/London:20261013T180000
DTSTAMP:20260424T035609
CREATED:20250519T073509Z
LAST-MODIFIED:20260205T203453Z
UID:10007939-1791903600-1791914400@grangetownchurch.org
SUMMARY:TownYouth
DESCRIPTION:Every Tuesdays during school terms\, from whenever school ends until 6pm. \n\n\n\nGames\, life-skills\, Bible teaching & an evening meal for children of secondary school age.
URL:https://grangetownchurch.org/event/townyouth-3/2026-10-13/
ATTACH;FMTTYPE=image/png:https://grangetownchurch.org/wp-content/uploads/2025/02/Add-a-subheading-14.png
END:VEVENT
BEGIN:VEVENT
DTSTART;TZID=Europe/London:20261020T150000
DTEND;TZID=Europe/London:20261020T180000
DTSTAMP:20260424T035609
CREATED:20250519T073509Z
LAST-MODIFIED:20260205T203453Z
UID:10007940-1792508400-1792519200@grangetownchurch.org
SUMMARY:TownYouth
DESCRIPTION:Every Tuesdays during school terms\, from whenever school ends until 6pm. \n\n\n\nGames\, life-skills\, Bible teaching & an evening meal for children of secondary school age.
URL:https://grangetownchurch.org/event/townyouth-3/2026-10-20/
ATTACH;FMTTYPE=image/png:https://grangetownchurch.org/wp-content/uploads/2025/02/Add-a-subheading-14.png
END:VEVENT
BEGIN:VEVENT
DTSTART;TZID=Europe/London:20261027T150000
DTEND;TZID=Europe/London:20261027T180000
DTSTAMP:20260424T035609
CREATED:20250519T073509Z
LAST-MODIFIED:20260205T203453Z
UID:10007941-1793113200-1793124000@grangetownchurch.org
SUMMARY:TownYouth
DESCRIPTION:Every Tuesdays during school terms\, from whenever school ends until 6pm. \n\n\n\nGames\, life-skills\, Bible teaching & an evening meal for children of secondary school age.
URL:https://grangetownchurch.org/event/townyouth-3/2026-10-27/
ATTACH;FMTTYPE=image/png:https://grangetownchurch.org/wp-content/uploads/2025/02/Add-a-subheading-14.png
END:VEVENT
BEGIN:VEVENT
DTSTART;TZID=Europe/London:20261103T150000
DTEND;TZID=Europe/London:20261103T180000
DTSTAMP:20260424T035609
CREATED:20250519T073509Z
LAST-MODIFIED:20260205T203453Z
UID:10007942-1793718000-1793728800@grangetownchurch.org
SUMMARY:TownYouth
DESCRIPTION:Every Tuesdays during school terms\, from whenever school ends until 6pm. \n\n\n\nGames\, life-skills\, Bible teaching & an evening meal for children of secondary school age.
URL:https://grangetownchurch.org/event/townyouth-3/2026-11-03/
ATTACH;FMTTYPE=image/png:https://grangetownchurch.org/wp-content/uploads/2025/02/Add-a-subheading-14.png
END:VEVENT
BEGIN:VEVENT
DTSTART;TZID=Europe/London:20261110T150000
DTEND;TZID=Europe/London:20261110T180000
DTSTAMP:20260424T035609
CREATED:20250519T073509Z
LAST-MODIFIED:20260205T203453Z
UID:10007943-1794322800-1794333600@grangetownchurch.org
SUMMARY:TownYouth
DESCRIPTION:Every Tuesdays during school terms\, from whenever school ends until 6pm. \n\n\n\nGames\, life-skills\, Bible teaching & an evening meal for children of secondary school age.
URL:https://grangetownchurch.org/event/townyouth-3/2026-11-10/
ATTACH;FMTTYPE=image/png:https://grangetownchurch.org/wp-content/uploads/2025/02/Add-a-subheading-14.png
END:VEVENT
BEGIN:VEVENT
DTSTART;TZID=Europe/London:20261117T150000
DTEND;TZID=Europe/London:20261117T180000
DTSTAMP:20260424T035609
CREATED:20250519T073509Z
LAST-MODIFIED:20260205T203453Z
UID:10007944-1794927600-1794938400@grangetownchurch.org
SUMMARY:TownYouth
DESCRIPTION:Every Tuesdays during school terms\, from whenever school ends until 6pm. \n\n\n\nGames\, life-skills\, Bible teaching & an evening meal for children of secondary school age.
URL:https://grangetownchurch.org/event/townyouth-3/2026-11-17/
ATTACH;FMTTYPE=image/png:https://grangetownchurch.org/wp-content/uploads/2025/02/Add-a-subheading-14.png
END:VEVENT
END:VCALENDAR